BEGIN:VCALENDAR
VERSION:2.0
PRODID:-//La Ferté Bernard - ECPv6.15.17.1//NONSGML v1.0//EN
CALSCALE:GREGORIAN
METHOD:PUBLISH
X-ORIGINAL-URL:https://www.la-ferte-bernard.fr
X-WR-CALDESC:Évènements pour La Ferté Bernard
REFRESH-INTERVAL;VALUE=DURATION:PT1H
X-Robots-Tag:noindex
X-PUBLISHED-TTL:PT1H
BEGIN:VTIMEZONE
TZID:Europe/Paris
BEGIN:DAYLIGHT
TZOFFSETFROM:+0100
TZOFFSETTO:+0200
TZNAME:CEST
DTSTART:20240331T010000
END:DAYLIGHT
BEGIN:STANDARD
TZOFFSETFROM:+0200
TZOFFSETTO:+0100
TZNAME:CET
DTSTART:20241027T010000
END:STANDARD
BEGIN:DAYLIGHT
TZOFFSETFROM:+0100
TZOFFSETTO:+0200
TZNAME:CEST
DTSTART:20250330T010000
END:DAYLIGHT
BEGIN:STANDARD
TZOFFSETFROM:+0200
TZOFFSETTO:+0100
TZNAME:CET
DTSTART:20251026T010000
END:STANDARD
BEGIN:DAYLIGHT
TZOFFSETFROM:+0100
TZOFFSETTO:+0200
TZNAME:CEST
DTSTART:20260329T010000
END:DAYLIGHT
BEGIN:STANDARD
TZOFFSETFROM:+0200
TZOFFSETTO:+0100
TZNAME:CET
DTSTART:20261025T010000
END:STANDARD
END:VTIMEZONE
BEGIN:VEVENT
DTSTART;TZID=Europe/Paris:20251204T200000
DTEND;TZID=Europe/Paris:20251204T213000
DTSTAMP:20260423T003619
CREATED:20251201T115616Z
LAST-MODIFIED:20251201T142915Z
UID:18857-1764878400-1764883800@www.la-ferte-bernard.fr
SUMMARY:Inavouable
DESCRIPTION:Deux chanteurs qui\, dans l’intimité de leur loge\, discutent avant de monter sur scène.\nAvec une politesse exagérée\, ils se confient\, se taquinent\, divaguent\, déraisonnent et ils chantent bien sûr ! À la recherche de la rime parfaite\, du bon mot qui fait mouche\, Alexis HK et Benoît Dorémus naviguent entre poésie et indécence avec humour et autodérision. Le public est invité à un moment en coulisse en compagnie d’un duo qui exprime avec malice ce qu’on ne dit généralement jamais à haute voix. \n\nDurée : 1 h 15\nBilletterie en cliquant ici\n\n© Frank Loriou
URL:https://www.la-ferte-bernard.fr/event/inavouable/
LOCATION:Centre culturel Athéna\, Avenue du Général de Gaulle\, La Ferté-Bernard\, 72400
CATEGORIES:Saison culturelle
ATTACH;FMTTYPE=image/jpeg:https://www.la-ferte-bernard.fr/wp-content/uploads/2025/08/Inavouable_cFrank-Loriou_0-1.jpg
END:VEVENT
END:VCALENDAR