BEGIN:VCALENDAR
VERSION:2.0
PRODID:-//La Ferté Bernard - ECPv6.15.17.1//NONSGML v1.0//EN
CALSCALE:GREGORIAN
METHOD:PUBLISH
X-WR-CALNAME:La Ferté Bernard
X-ORIGINAL-URL:https://www.la-ferte-bernard.fr
X-WR-CALDESC:Évènements pour La Ferté Bernard
REFRESH-INTERVAL;VALUE=DURATION:PT1H
X-Robots-Tag:noindex
X-PUBLISHED-TTL:PT1H
BEGIN:VTIMEZONE
TZID:Europe/Paris
BEGIN:DAYLIGHT
TZOFFSETFROM:+0100
TZOFFSETTO:+0200
TZNAME:CEST
DTSTART:20240331T010000
END:DAYLIGHT
BEGIN:STANDARD
TZOFFSETFROM:+0200
TZOFFSETTO:+0100
TZNAME:CET
DTSTART:20241027T010000
END:STANDARD
BEGIN:DAYLIGHT
TZOFFSETFROM:+0100
TZOFFSETTO:+0200
TZNAME:CEST
DTSTART:20250330T010000
END:DAYLIGHT
BEGIN:STANDARD
TZOFFSETFROM:+0200
TZOFFSETTO:+0100
TZNAME:CET
DTSTART:20251026T010000
END:STANDARD
BEGIN:DAYLIGHT
TZOFFSETFROM:+0100
TZOFFSETTO:+0200
TZNAME:CEST
DTSTART:20260329T010000
END:DAYLIGHT
BEGIN:STANDARD
TZOFFSETFROM:+0200
TZOFFSETTO:+0100
TZNAME:CET
DTSTART:20261025T010000
END:STANDARD
END:VTIMEZONE
BEGIN:VEVENT
DTSTART;TZID=Europe/Paris:20251219T170000
DTEND;TZID=Europe/Paris:20251220T180000
DTSTAMP:20260423T003145
CREATED:20251201T133223Z
LAST-MODIFIED:20251202T120835Z
UID:18928-1766163600-1766253600@www.la-ferte-bernard.fr
SUMMARY:Noël Magique
DESCRIPTION:Profitez de la magie de Noël. \nPhotos et chapeaux\nLe vendredi soir\, le Père Noël rencontrera les enfants et posera avec ceux qui le souhaitent pour la traditionnelle photo-souvenir. Les curieux pourront aussi découvrir La Malle aux chapeaux : deux surprenants modistes créent en un clin d’œil des couvre-chefs originaux avant de les déposer sur les têtes ! \nSpectacle et autres surprises \nLe samedi\, place au spectacle avec deux représentations de « Noël (en)chanté ». Habituellement source de mélodies\, la baguette magique de la fée Symphonie ne fonctionne plus. Elle part alors en quête de la magie perdue en traversant divers univers musicaux où elle rencontre d’étonnants personnages. Un spectacle interactif qui initie aux grands genres musicaux : rock\, classique\, jazz… \nÉgalement au programme : les couvre-chefs de la Malle aux chapeaux\, des tours en calèche avec le Père Noël\, des ateliers maquillage et des stands de gourmandises. \nVendredi de 17 h à 18 h 30 et samedi de 14 h 30 à 18 h – Place Carnot\nSpectacle 15 h et 17 h – Halles Denis Béalet\nGratuit
URL:https://www.la-ferte-bernard.fr/event/noel-magique/
LOCATION:Centre-ville\, Place Carnot\, La Ferté-Bernard\, 72400
CATEGORIES:Evenement
ATTACH;FMTTYPE=image/jpeg:https://www.la-ferte-bernard.fr/wp-content/uploads/2025/12/Noel-Magique-2025-site-agenda-scaled.jpg
END:VEVENT
END:VCALENDAR