BEGIN:VCALENDAR
VERSION:2.0
PRODID:-//La Ferté Bernard - ECPv6.15.17.1//NONSGML v1.0//EN
CALSCALE:GREGORIAN
METHOD:PUBLISH
X-WR-CALNAME:La Ferté Bernard
X-ORIGINAL-URL:https://www.la-ferte-bernard.fr
X-WR-CALDESC:Évènements pour La Ferté Bernard
REFRESH-INTERVAL;VALUE=DURATION:PT1H
X-Robots-Tag:noindex
X-PUBLISHED-TTL:PT1H
BEGIN:VTIMEZONE
TZID:Europe/Paris
BEGIN:DAYLIGHT
TZOFFSETFROM:+0100
TZOFFSETTO:+0200
TZNAME:CEST
DTSTART:20240331T010000
END:DAYLIGHT
BEGIN:STANDARD
TZOFFSETFROM:+0200
TZOFFSETTO:+0100
TZNAME:CET
DTSTART:20241027T010000
END:STANDARD
BEGIN:DAYLIGHT
TZOFFSETFROM:+0100
TZOFFSETTO:+0200
TZNAME:CEST
DTSTART:20250330T010000
END:DAYLIGHT
BEGIN:STANDARD
TZOFFSETFROM:+0200
TZOFFSETTO:+0100
TZNAME:CET
DTSTART:20251026T010000
END:STANDARD
BEGIN:DAYLIGHT
TZOFFSETFROM:+0100
TZOFFSETTO:+0200
TZNAME:CEST
DTSTART:20260329T010000
END:DAYLIGHT
BEGIN:STANDARD
TZOFFSETFROM:+0200
TZOFFSETTO:+0100
TZNAME:CET
DTSTART:20261025T010000
END:STANDARD
BEGIN:DAYLIGHT
TZOFFSETFROM:+0100
TZOFFSETTO:+0200
TZNAME:CEST
DTSTART:20270328T010000
END:DAYLIGHT
BEGIN:STANDARD
TZOFFSETFROM:+0200
TZOFFSETTO:+0100
TZNAME:CET
DTSTART:20271031T010000
END:STANDARD
END:VTIMEZONE
BEGIN:VEVENT
DTSTART;TZID=Europe/Paris:20251227T100000
DTEND;TZID=Europe/Paris:20260205T180000
DTSTAMP:20260422T203249
CREATED:20251201T122530Z
LAST-MODIFIED:20251215T075301Z
UID:18883-1766829600-1770314400@www.la-ferte-bernard.fr
SUMMARY:Exposition photos "Eurêka ! Des inventions au fil du temps..."
DESCRIPTION:Découvrir quelques inventions qui ont jalonné l’histoire humaine à travers l’œil des photographes de l’Huisne Photo Club. \nRencontre avec les photographes le samedi 10 janvier à 11 h \n\nEntrée libre
URL:https://www.la-ferte-bernard.fr/event/exposition-photos-eureka-des-inventions-au-fil-du-temps/
LOCATION:Médiathèque Ludothèque Jean d’Ormesson\, 5 rue Alfred-Marchand\, La Ferté-Bernard\, 72400
CATEGORIES:Culture
ATTACH;FMTTYPE=image/jpeg:https://www.la-ferte-bernard.fr/wp-content/uploads/2025/10/Gerard-Morel-_993_67_24-scaled.jpg
END:VEVENT
BEGIN:VEVENT
DTSTART;TZID=Europe/Paris:20260129T080000
DTEND;TZID=Europe/Paris:20260203T170000
DTSTAMP:20260422T203249
CREATED:20260126T073814Z
LAST-MODIFIED:20260126T074018Z
UID:19711-1769673600-1770138000@www.la-ferte-bernard.fr
SUMMARY:Vacances d'hiver à l'Espace Jeunesse
DESCRIPTION:Du 16 au 27 février\, l’Espace Jeunesse proposera un cocktail d’activités aux jeunes de 11 à 18 ans pour qu’ils profitent pleinement de leurs vacances d’hiver.  \nProgramme pour les 11/14 ans \nProgramme pour les 15/18 ans\n \n  \nInscriptions\n\nA partir du 29 janvier pour les Fertois et 3 février pour tous\nA l’Espace Jeunesse – 2 rue Alfred Marchand – 02 43 71 70 68\nDu mardi au vendredi de 12 h à 14 h et de 17 h à 18 h\n\n 
URL:https://www.la-ferte-bernard.fr/event/vacances-dhiver-a-lespace-jeunesse/
LOCATION:Espace Jeunesse\, 2 rue Alfred-Marchand\, La Ferté-Bernard\, 72400\, France
CATEGORIES:Jeunesse
ATTACH;FMTTYPE=image/png:https://www.la-ferte-bernard.fr/wp-content/uploads/2026/01/ESPJ-vacances-fevrier-visu-web.png
END:VEVENT
BEGIN:VEVENT
DTSTART;TZID=Europe/Paris:20260203T200000
DTEND;TZID=Europe/Paris:20260203T220000
DTSTAMP:20260422T203249
CREATED:20251201T123231Z
LAST-MODIFIED:20251201T141410Z
UID:18891-1770148800-1770156000@www.la-ferte-bernard.fr
SUMMARY:La Vague
DESCRIPTION:Et si un régime totalitaire naissait… dans une salle de classe ? \nInspirée d’une histoire vraie\, La Vague retrace l’histoire d’un professeur qui lance une expérience pour expliquer à ses élèves comment naît un régime totalitaire. Slogans\, saluts\, règles…\, ce qui commence comme un jeu pédagogique glisse vers un chaos inquiétant. \nAvec cette pièce percutante\, Les Chiens andalous dénoncent la manipulation\, l’engagement et le danger des idées extrêmes et questionnent notre capacité à résister à l’embrigadement. \n\nDurée : 1 h 35\nBilletterie en cliquant ici\n\n© Tanguy Mendrisse
URL:https://www.la-ferte-bernard.fr/event/la-vague/
LOCATION:Centre culturel Athéna\, Avenue du Général de Gaulle\, La Ferté-Bernard\, 72400
CATEGORIES:Saison culturelle
ATTACH;FMTTYPE=image/jpeg:https://www.la-ferte-bernard.fr/wp-content/uploads/2025/08/La-Vague-1.jpg
END:VEVENT
END:VCALENDAR