BEGIN:VCALENDAR
VERSION:2.0
PRODID:-//La Ferté Bernard - ECPv6.15.17.1//NONSGML v1.0//EN
CALSCALE:GREGORIAN
METHOD:PUBLISH
X-WR-CALNAME:La Ferté Bernard
X-ORIGINAL-URL:https://www.la-ferte-bernard.fr
X-WR-CALDESC:Évènements pour La Ferté Bernard
REFRESH-INTERVAL;VALUE=DURATION:PT1H
X-Robots-Tag:noindex
X-PUBLISHED-TTL:PT1H
BEGIN:VTIMEZONE
TZID:Europe/Paris
BEGIN:DAYLIGHT
TZOFFSETFROM:+0100
TZOFFSETTO:+0200
TZNAME:CEST
DTSTART:20250330T010000
END:DAYLIGHT
BEGIN:STANDARD
TZOFFSETFROM:+0200
TZOFFSETTO:+0100
TZNAME:CET
DTSTART:20251026T010000
END:STANDARD
BEGIN:DAYLIGHT
TZOFFSETFROM:+0100
TZOFFSETTO:+0200
TZNAME:CEST
DTSTART:20260329T010000
END:DAYLIGHT
BEGIN:STANDARD
TZOFFSETFROM:+0200
TZOFFSETTO:+0100
TZNAME:CET
DTSTART:20261025T010000
END:STANDARD
BEGIN:DAYLIGHT
TZOFFSETFROM:+0100
TZOFFSETTO:+0200
TZNAME:CEST
DTSTART:20270328T010000
END:DAYLIGHT
BEGIN:STANDARD
TZOFFSETFROM:+0200
TZOFFSETTO:+0100
TZNAME:CET
DTSTART:20271031T010000
END:STANDARD
END:VTIMEZONE
BEGIN:VEVENT
DTSTART;TZID=Europe/Paris:20260205T100000
DTEND;TZID=Europe/Paris:20260327T170000
DTSTAMP:20260422T203243
CREATED:20260112T130749Z
LAST-MODIFIED:20260112T144108Z
UID:19447-1770285600-1774630800@www.la-ferte-bernard.fr
SUMMARY:Exposition - Carol Descordes
DESCRIPTION:Née dans une famille de galeristes\, Carol Descordes hérite très tôt de la culture et des codes de l’art classique. C’est au cœur de cet univers qu’elle développe un regard sensible\, nourri d’histoire de l’art et d’une exigence esthétique. \nInstallée dans les collines du Perche\, elle s’engage dans un travail photographique centré sur le paysage forestier qui l’entoure. Ces recherches\, à la fois sensibles et contemplatives\, donnent naissance à plusieurs ouvrages et expositions.\nSa rencontre avec l’antiquaire Sylvain Chériau marque un tournant. Elle puise dans sa double culture classique et visuelle pour entamer une série consacrée à la nature morte\, genre pictural qu’elle revisite avec finesse. Elle maîtrise l’éclairage et la mise en scène avec une précision rare\, recréant la lumière douce et les tons justes propres à la peinture ancienne. En tant qu’héritière du monde des antiquaires\, elle connaît les secrets de composition\, les matières\, les gestes et les objets. \n\nVernissage : Jeudi 5 février à 18 h 30\nVisites commentées : Samedis 14 février et 14 mars à partir de 11 h
URL:https://www.la-ferte-bernard.fr/event/exposition-carol-descordes/
LOCATION:Centre culturel de La Laverie\, 3 rue du Moulin à Tan\, La Ferté-Bernard\, 72400\, France
CATEGORIES:Culture
ATTACH;FMTTYPE=image/jpeg:https://www.la-ferte-bernard.fr/wp-content/uploads/2026/01/Exposition-La-Laverie-Carol-Descordes.jpg
END:VEVENT
BEGIN:VEVENT
DTSTART;TZID=Europe/Paris:20260216T073000
DTEND;TZID=Europe/Paris:20260227T183000
DTSTAMP:20260422T203243
CREATED:20260121T092759Z
LAST-MODIFIED:20260121T092853Z
UID:19661-1771227000-1772217000@www.la-ferte-bernard.fr
SUMMARY:Vacances d'hiver - Centre de loisirs "Le Valmer"
DESCRIPTION:De nombreuses activités sont à retrouver pour faire voyager les enfants de 3 à 10 ans… \n« Voyage au cœur de l’art »\nDu lundi 16 au vendredi 20 février \n« Welcome to England »\nDu lundi 23 au vendredi 27 février \nInscriptions à partir du 29 janvier pour les Fertois et du 2 février pour tous\nau secrétariat du Centre Maurice Loiseau\, Place du Général de Gaulle. \nPlus d’informations sur la plaquette\nen cliquant ici
URL:https://www.la-ferte-bernard.fr/event/vacances-dhiver-centre-de-loisirs-le-valmer/
LOCATION:Centre de loisirs « Le Valmer »\, Allée du Valmer\, Espace du lac\, La Ferté-Bernard\, 72400\, France
ATTACH;FMTTYPE=image/jpeg:https://www.la-ferte-bernard.fr/wp-content/uploads/2026/01/Visuel-Vacances-dhiver-ALSH-scaled.jpeg
END:VEVENT
BEGIN:VEVENT
DTSTART;TZID=Europe/Paris:20260216T080000
DTEND;TZID=Europe/Paris:20260220T170000
DTSTAMP:20260422T203243
CREATED:20260114T130635Z
LAST-MODIFIED:20260114T131146Z
UID:19528-1771228800-1771606800@www.la-ferte-bernard.fr
SUMMARY:Stage Cocktail Sportif
DESCRIPTION:Plusieurs activités à découvrir…\nSports collectifs\nSports d’opposition\nSports de raquettes\nSports de plein air\nNouvelles activités (tag archery\, ultimate…) \nInscriptions à partir du 29 janvier pour les Fertois et du 2 février pour tous. \nPlus d’informations sur la plaquette\nen cliquant ici
URL:https://www.la-ferte-bernard.fr/event/stage-cocktail-sportif/
LOCATION:Base de loisirs\, Avenue du Général de Gaulle\, La Ferté-Bernard
ATTACH;FMTTYPE=image/jpeg:https://www.la-ferte-bernard.fr/wp-content/uploads/2026/01/Visuel-Cocktail-sportif-fev-scaled.jpg
END:VEVENT
BEGIN:VEVENT
DTSTART;TZID=Europe/Paris:20260216T140000
DTEND;TZID=Europe/Paris:20260227T180000
DTSTAMP:20260422T203243
CREATED:20260123T095524Z
LAST-MODIFIED:20260123T100036Z
UID:19680-1771250400-1772215200@www.la-ferte-bernard.fr
SUMMARY:Espace Jeunesse : Vacances d'Hiver - 11 à 14 ans
DESCRIPTION:Un cocktail d’activités pour les jeunes de 11 à 14 ans ! \nINSCRIPTIONS À PARTIR DU\n29 janvier pour les Fertois\n3 février pour tous\n\nà l’Espace Jeunesse\ndu mardi au vendredi de 12 h à 14 h et de 17 h à 18 h \nPlus d’informations sur la plaquette\nen cliquant ici \n 
URL:https://www.la-ferte-bernard.fr/event/espace-jeunesse-vacances-dhiver-11-a-14-ans/
LOCATION:Espace Jeunesse\, 2 rue Alfred-Marchand\, La Ferté-Bernard\, 72400\, France
ATTACH;FMTTYPE=image/png:https://www.la-ferte-bernard.fr/wp-content/uploads/2026/01/Plaquette-fevrier-2026-11-14-ans-Publication-Facebook-sans-logo.png
END:VEVENT
BEGIN:VEVENT
DTSTART;TZID=Europe/Paris:20260216T140000
DTEND;TZID=Europe/Paris:20260227T200000
DTSTAMP:20260422T203243
CREATED:20260123T095703Z
LAST-MODIFIED:20260127T093239Z
UID:19683-1771250400-1772222400@www.la-ferte-bernard.fr
SUMMARY:Espace Jeunesse : Vacances d'hiver - 15 à 18 ans
DESCRIPTION:Plusieurs activités proposées aux jeunes de 15 à 18 ans ! \nINSCRIPTIONS À PARTIR DU\n29 janvier pour les Fertois\n3 février pour tous\n\nà l’Espace Jeunesse\ndu mardi au vendredi de 12 h à 14 h et de 17 h à 18 h \nPlus d’informations sur la plaquette\nen cliquant ici \n\n 
URL:https://www.la-ferte-bernard.fr/event/espace-jeunesse-vacances-dhiver-15-a-18-ans/
LOCATION:Espace Jeunesse\, 2 rue Alfred-Marchand\, La Ferté-Bernard\, 72400\, France
ATTACH;FMTTYPE=image/png:https://www.la-ferte-bernard.fr/wp-content/uploads/2026/01/Plaquette-fevrier-2026-15-18-ans-Publication-Facebook-sans-logo.png
END:VEVENT
END:VCALENDAR