BEGIN:VCALENDAR
VERSION:2.0
PRODID:-//La Ferté Bernard - ECPv6.15.17.1//NONSGML v1.0//EN
CALSCALE:GREGORIAN
METHOD:PUBLISH
X-WR-CALNAME:La Ferté Bernard
X-ORIGINAL-URL:https://www.la-ferte-bernard.fr
X-WR-CALDESC:Évènements pour La Ferté Bernard
REFRESH-INTERVAL;VALUE=DURATION:PT1H
X-Robots-Tag:noindex
X-PUBLISHED-TTL:PT1H
BEGIN:VTIMEZONE
TZID:Europe/Paris
BEGIN:DAYLIGHT
TZOFFSETFROM:+0100
TZOFFSETTO:+0200
TZNAME:CEST
DTSTART:20250330T010000
END:DAYLIGHT
BEGIN:STANDARD
TZOFFSETFROM:+0200
TZOFFSETTO:+0100
TZNAME:CET
DTSTART:20251026T010000
END:STANDARD
BEGIN:DAYLIGHT
TZOFFSETFROM:+0100
TZOFFSETTO:+0200
TZNAME:CEST
DTSTART:20260329T010000
END:DAYLIGHT
BEGIN:STANDARD
TZOFFSETFROM:+0200
TZOFFSETTO:+0100
TZNAME:CET
DTSTART:20261025T010000
END:STANDARD
BEGIN:DAYLIGHT
TZOFFSETFROM:+0100
TZOFFSETTO:+0200
TZNAME:CEST
DTSTART:20270328T010000
END:DAYLIGHT
BEGIN:STANDARD
TZOFFSETFROM:+0200
TZOFFSETTO:+0100
TZNAME:CET
DTSTART:20271031T010000
END:STANDARD
END:VTIMEZONE
BEGIN:VEVENT
DTSTART;TZID=Europe/Paris:20260404T083000
DTEND;TZID=Europe/Paris:20260405T170000
DTSTAMP:20260422T170556
CREATED:20260313T095647Z
LAST-MODIFIED:20260327T133257Z
UID:20500-1775291400-1775408400@www.la-ferte-bernard.fr
SUMMARY:47e Tournoi international de Pâques
DESCRIPTION:Le VSF Football organise les 4 et 5 avril son traditionnel tournoi de football qui réunira plus de 1 000 jeunes joueurs et joueuses. Pendant deux jours\, les stades du Pré du château vibreront au rythme des matchs\, dans une ambiance sportive\, conviviale et fair-play.  \nCet événement rassemblera de nombreuses équipes venues partager leur passion du football et défendre leurs couleurs dans différentes catégories d’âge. \nProgramme du week-end\nSamedi 4 avril – De 8 h 30 à 17 h \n\nU11 garçons\nU15 féminines\nU18 féminines\n\nDimanche 5 avril – De 8 h 30 à 17 h \n\nU9 garçons\nU15 garçons\n\nPlus d’infos : ici\n\n  \nUn événement ouvert à tous\nTout au long du week-end\, une restauration sera proposée sur place afin de permettre aux spectateurs de profiter pleinement de l’événement. \nUn partenariat\nÀ noter également une belle initiative solidaire : les médailles et récompenses du tournoi seront réalisées en partenariat avec l’ESAT CO\, valorisant ainsi le travail et le savoir-faire des personnes en situation de handicap. \nLe public est attendu nombreux pour encourager les jeunes talents et profiter de ce week-end festif autour du ballon rond.
URL:https://www.la-ferte-bernard.fr/event/47e-tournoi-international-de-paques/
LOCATION:Stade Pré du chateau\, Place du Général de Gaulle\, La Ferté-Bernard\, 72400\, France
CATEGORIES:Associations,Sport
ATTACH;FMTTYPE=image/jpeg:https://www.la-ferte-bernard.fr/wp-content/uploads/2026/03/Tournoi-paques-2025-1-scaled.jpg
END:VEVENT
END:VCALENDAR