BEGIN:VCALENDAR
VERSION:2.0
PRODID:-//La Ferté Bernard - ECPv6.15.17.1//NONSGML v1.0//EN
CALSCALE:GREGORIAN
METHOD:PUBLISH
X-ORIGINAL-URL:https://www.la-ferte-bernard.fr
X-WR-CALDESC:Évènements pour La Ferté Bernard
REFRESH-INTERVAL;VALUE=DURATION:PT1H
X-Robots-Tag:noindex
X-PUBLISHED-TTL:PT1H
BEGIN:VTIMEZONE
TZID:Europe/Paris
BEGIN:DAYLIGHT
TZOFFSETFROM:+0100
TZOFFSETTO:+0200
TZNAME:CEST
DTSTART:20250330T010000
END:DAYLIGHT
BEGIN:STANDARD
TZOFFSETFROM:+0200
TZOFFSETTO:+0100
TZNAME:CET
DTSTART:20251026T010000
END:STANDARD
BEGIN:DAYLIGHT
TZOFFSETFROM:+0100
TZOFFSETTO:+0200
TZNAME:CEST
DTSTART:20260329T010000
END:DAYLIGHT
BEGIN:STANDARD
TZOFFSETFROM:+0200
TZOFFSETTO:+0100
TZNAME:CET
DTSTART:20261025T010000
END:STANDARD
BEGIN:DAYLIGHT
TZOFFSETFROM:+0100
TZOFFSETTO:+0200
TZNAME:CEST
DTSTART:20270328T010000
END:DAYLIGHT
BEGIN:STANDARD
TZOFFSETFROM:+0200
TZOFFSETTO:+0100
TZNAME:CET
DTSTART:20271031T010000
END:STANDARD
END:VTIMEZONE
BEGIN:VEVENT
DTSTART;TZID=Europe/Paris:20260409T083000
DTEND;TZID=Europe/Paris:20260529T170000
DTSTAMP:20260422T171029
CREATED:20260112T073053Z
LAST-MODIFIED:20260112T131718Z
UID:19452-1775723400-1780074000@www.la-ferte-bernard.fr
SUMMARY:Exposition - Patricia Pérez
DESCRIPTION:La céramique est le moyen d’expression principal de Patricia Pérez\, elle nous décrit la triste réalité\, constatation d’une nature touchée par les déchets d’une société ultra-consommatrice. \nAu travers de cette exposition\, l’artiste attire notre attention sur ces objets que l’on ne voit plus\, que l’on ne considère plus\, mais qui\, pour la plupart\, nous survivront. Véritable visite archéologique dans le présent\, sublimée par le talent artistique de Patricia Pérez. \n\nVernissage : Jeudi 9 avril à 18 h 30\nVisite commentée : Samedi 25 avril à partir de 11 h
URL:https://www.la-ferte-bernard.fr/event/exposition-patricia-perez/
LOCATION:Centre culturel de La Laverie\, 3 rue du Moulin à Tan\, La Ferté-Bernard\, 72400\, France
CATEGORIES:Culture
ATTACH;FMTTYPE=image/jpeg:https://www.la-ferte-bernard.fr/wp-content/uploads/2026/01/Exposition-La-Laverie-Patricia-Perez.jpg
END:VEVENT
BEGIN:VEVENT
DTSTART;TZID=Europe/Paris:20260411T103000
DTEND;TZID=Europe/Paris:20260411T113000
DTSTAMP:20260422T171029
CREATED:20260116T081336Z
LAST-MODIFIED:20260116T081336Z
UID:19586-1775903400-1775907000@www.la-ferte-bernard.fr
SUMMARY:La Ronde des histoires
DESCRIPTION:Lecture d’histoires et comptines pour les tout-petits (0 à 3 ans). \nGratuit
URL:https://www.la-ferte-bernard.fr/event/la-ronde-des-histoires-2/
LOCATION:Médiathèque Ludothèque Jean d’Ormesson\, 5 rue Alfred-Marchand\, La Ferté-Bernard\, 72400
ATTACH;FMTTYPE=image/png:https://www.la-ferte-bernard.fr/wp-content/uploads/2026/01/Visuel-La-Ronde-des-histoires-3.png
END:VEVENT
BEGIN:VEVENT
DTSTART;TZID=Europe/Paris:20260411T140000
DTEND;TZID=Europe/Paris:20260411T170000
DTSTAMP:20260422T171029
CREATED:20260320T151752Z
LAST-MODIFIED:20260320T151841Z
UID:20658-1775916000-1775926800@www.la-ferte-bernard.fr
SUMMARY:Show Brésilien
DESCRIPTION:La ville accueillera un “Show Brésilien” avec la participation de deux associations : la Batucada “Yolande do Brasil” et la “Capoeira Pra Vôce”. \n“Yolande do Brasil” est une batucada parisienne qui organise pour la première fois son traditionnel week-end associatif annuel en terre fertoise.\nA cette occasion\, 60 bénévoles de ce groupe d’amateurs passionnés ainsi que des membres du collectif fertois “Capoeira Pra Vôce” proposeront de partager leur énergie festive autour des rythmes brésiliens. \nProgramme\n\nShow et atelier gratuits
URL:https://www.la-ferte-bernard.fr/event/show-bresilien-2/
LOCATION:Centre-ville\, Place Carnot\, La Ferté-Bernard\, 72400
CATEGORIES:Animation
ATTACH;FMTTYPE=image/jpeg:https://www.la-ferte-bernard.fr/wp-content/uploads/2026/03/A4-SHOW-BRESILIEN-21-x-29.7-cm.jpg
END:VEVENT
END:VCALENDAR