BEGIN:VCALENDAR
VERSION:2.0
PRODID:-//La Ferté Bernard - ECPv6.15.17.1//NONSGML v1.0//EN
CALSCALE:GREGORIAN
METHOD:PUBLISH
X-ORIGINAL-URL:https://www.la-ferte-bernard.fr
X-WR-CALDESC:Évènements pour La Ferté Bernard
REFRESH-INTERVAL;VALUE=DURATION:PT1H
X-Robots-Tag:noindex
X-PUBLISHED-TTL:PT1H
BEGIN:VTIMEZONE
TZID:Europe/Paris
BEGIN:DAYLIGHT
TZOFFSETFROM:+0100
TZOFFSETTO:+0200
TZNAME:CEST
DTSTART:20240331T010000
END:DAYLIGHT
BEGIN:STANDARD
TZOFFSETFROM:+0200
TZOFFSETTO:+0100
TZNAME:CET
DTSTART:20241027T010000
END:STANDARD
BEGIN:DAYLIGHT
TZOFFSETFROM:+0100
TZOFFSETTO:+0200
TZNAME:CEST
DTSTART:20250330T010000
END:DAYLIGHT
BEGIN:STANDARD
TZOFFSETFROM:+0200
TZOFFSETTO:+0100
TZNAME:CET
DTSTART:20251026T010000
END:STANDARD
BEGIN:DAYLIGHT
TZOFFSETFROM:+0100
TZOFFSETTO:+0200
TZNAME:CEST
DTSTART:20260329T010000
END:DAYLIGHT
BEGIN:STANDARD
TZOFFSETFROM:+0200
TZOFFSETTO:+0100
TZNAME:CET
DTSTART:20261025T010000
END:STANDARD
BEGIN:DAYLIGHT
TZOFFSETFROM:+0100
TZOFFSETTO:+0200
TZNAME:CEST
DTSTART:20270328T010000
END:DAYLIGHT
BEGIN:STANDARD
TZOFFSETFROM:+0200
TZOFFSETTO:+0100
TZNAME:CET
DTSTART:20271031T010000
END:STANDARD
END:VTIMEZONE
BEGIN:VEVENT
DTSTART;TZID=Europe/Paris:20251227T100000
DTEND;TZID=Europe/Paris:20260205T180000
DTSTAMP:20260424T110107
CREATED:20251201T122530Z
LAST-MODIFIED:20251215T075301Z
UID:18883-1766829600-1770314400@www.la-ferte-bernard.fr
SUMMARY:Exposition photos "Eurêka ! Des inventions au fil du temps..."
DESCRIPTION:Découvrir quelques inventions qui ont jalonné l’histoire humaine à travers l’œil des photographes de l’Huisne Photo Club. \nRencontre avec les photographes le samedi 10 janvier à 11 h \n\nEntrée libre
URL:https://www.la-ferte-bernard.fr/event/exposition-photos-eureka-des-inventions-au-fil-du-temps/
LOCATION:Médiathèque Ludothèque Jean d’Ormesson\, 5 rue Alfred-Marchand\, La Ferté-Bernard\, 72400
CATEGORIES:Culture
ATTACH;FMTTYPE=image/jpeg:https://www.la-ferte-bernard.fr/wp-content/uploads/2025/10/Gerard-Morel-_993_67_24-scaled.jpg
END:VEVENT
BEGIN:VEVENT
DTSTART;TZID=Europe/Paris:20260102T160000
DTEND;TZID=Europe/Paris:20260102T180000
DTSTAMP:20260424T110107
CREATED:20251201T122704Z
LAST-MODIFIED:20251201T141743Z
UID:18885-1767369600-1767376800@www.la-ferte-bernard.fr
SUMMARY:Ciné famille - janvier
DESCRIPTION:Projection d’un film à regarder en famille ! \n\nGratuit
URL:https://www.la-ferte-bernard.fr/event/cine-famille-janvier/
LOCATION:Médiathèque Ludothèque Jean d’Ormesson\, 5 rue Alfred-Marchand\, La Ferté-Bernard\, 72400
CATEGORIES:Culture
ATTACH;FMTTYPE=image/jpeg:https://www.la-ferte-bernard.fr/wp-content/uploads/2025/11/Visuel-cine-famille-RS-scaled.jpg
END:VEVENT
BEGIN:VEVENT
DTSTART;TZID=Europe/Paris:20260117T093000
DTEND;TZID=Europe/Paris:20260118T173000
DTSTAMP:20260424T110107
CREATED:20251201T105636Z
LAST-MODIFIED:20251201T141845Z
UID:18854-1768642200-1768757400@www.la-ferte-bernard.fr
SUMMARY:Stage de Chant
DESCRIPTION:L’Escal propose un stage de chant encadré par Marie-Laure Thébault et Jasmin Martorell.  \nOuvert à tous\, ces deux jours permettront d’explorer la technique de respiration et le placement de la voix puis la polyphonie à 2 ou 3 voix sur des chansons françaises d’un répertoire ayant pour thème « Les gens ». \nPlus de détails sur la plaquette : ici  \nInscriptions ouvertes jusqu’au 10 janvier 2026 auprès de l’Escal\, 1 rue Ledru Rollin.\nContact : 02 43 93 67 92 – 06 07 50 03 98
URL:https://www.la-ferte-bernard.fr/event/stage-de-chant/
LOCATION:Escal – Pôle de pratiques artistiques\, 1 rue Ledru Rollin\, La Ferté-Bernard\, 72400\, France
CATEGORIES:Culture
ATTACH;FMTTYPE=image/jpeg:https://www.la-ferte-bernard.fr/wp-content/uploads/2025/11/stage-de-chant-visu-janvier-2025.jpg
END:VEVENT
BEGIN:VEVENT
DTSTART;TZID=Europe/Paris:20260117T103000
DTEND;TZID=Europe/Paris:20260117T120000
DTSTAMP:20260424T110107
CREATED:20251201T122819Z
LAST-MODIFIED:20251201T141633Z
UID:18887-1768645800-1768651200@www.la-ferte-bernard.fr
SUMMARY:La Ronde des histoires - janvier
DESCRIPTION:Lecture d’histoires et comptines pour les tout-petits (0 à 3 ans) accompagnée par les élèves de l’École de Musique. \n\nGratuit
URL:https://www.la-ferte-bernard.fr/event/la-ronde-des-histoires-janvier/
LOCATION:Médiathèque Ludothèque Jean d’Ormesson\, 5 rue Alfred-Marchand\, La Ferté-Bernard\, 72400
CATEGORIES:Culture
ATTACH;FMTTYPE=image/png:https://www.la-ferte-bernard.fr/wp-content/uploads/2025/11/Visuel-la-ronde-des-histoires.png
END:VEVENT
BEGIN:VEVENT
DTSTART;TZID=Europe/Paris:20260119T100000
DTEND;TZID=Europe/Paris:20260127T180000
DTSTAMP:20260424T110107
CREATED:20260114T145714Z
LAST-MODIFIED:20260115T075526Z
UID:19542-1768816800-1769536800@www.la-ferte-bernard.fr
SUMMARY:Exposition Ashley Ashford-Brown
DESCRIPTION:Déjà exposé en 2024 au centre culturel de la Laverie\, avec l’exposition Inside/Outside\, Ashley Ashford-Brown présentera à partir du 19 janvier une œuvre intitulée Woodland\, aux dimensions particulières puisqu’elle est composée de 9 panneaux pour une longueur totale de 13 mètres. Œuvre permettant une immersion totale dans les paysages d’Ashley Ashford-Brown. \nLe temps fort de cette exposition se déroulera le samedi 24 janvier de 14 h à 16 h 30\, puisqu’Ashley Ashford-Brown sera présent pour dédicacer sa magnifique monographie\, Les cordes du temps\, publiée aux Éditions Lord Byron. \nUn ouvrage qui retrace les 30 dernières années de la carrière et l’œuvre de l’artiste peintre franco-britannique\, réalisé sous la direction de Christine Ollier\, et publié avec le soutien du Centre d’Études des Relations et des Contacts Linguistiques et Littéraires (Univ. Amiens) et le Centre Culturel de La Laverie.
URL:https://www.la-ferte-bernard.fr/event/exposition-ashley-ashford-brown/
LOCATION:Centre culturel de La Laverie\, 3 rue du Moulin à Tan\, La Ferté-Bernard\, 72400\, France
CATEGORIES:Culture
ATTACH;FMTTYPE=image/jpeg:https://www.la-ferte-bernard.fr/wp-content/uploads/2026/01/Exposition-La-Laverie-Woodlands-2.jpg
END:VEVENT
BEGIN:VEVENT
DTSTART;TZID=Europe/Paris:20260124T143000
DTEND;TZID=Europe/Paris:20260124T151500
DTSTAMP:20260424T110107
CREATED:20251215T140239Z
LAST-MODIFIED:20260119T071213Z
UID:19139-1769265000-1769267700@www.la-ferte-bernard.fr
SUMMARY:Ma Région Virtuose - Classe de piano de l'Escal - Pôle de Pratiques Artistiques
DESCRIPTION:Sous la direction d’Emmanuelle Deloffre \nŒuvres de Barratt\, Hisaishi\, Bach\, Basteau…
URL:https://www.la-ferte-bernard.fr/event/ma-region-virtuose-classe-de-piano-de-lescal-pole-de-pratiques-artistiques/
LOCATION:Halles Denis Béalet\, Place de la Lice\, La Ferté-Bernard\, 72400\, France
CATEGORIES:Culture
ATTACH;FMTTYPE=image/jpeg:https://www.la-ferte-bernard.fr/wp-content/uploads/2025/12/Ma-Region-Virtuose-Classe-de-Piano-de-lESCAL-scaled.jpg
END:VEVENT
END:VCALENDAR