BEGIN:VCALENDAR
VERSION:2.0
PRODID:-//La Ferté Bernard - ECPv6.15.17.1//NONSGML v1.0//EN
CALSCALE:GREGORIAN
METHOD:PUBLISH
X-ORIGINAL-URL:https://www.la-ferte-bernard.fr
X-WR-CALDESC:Évènements pour La Ferté Bernard
REFRESH-INTERVAL;VALUE=DURATION:PT1H
X-Robots-Tag:noindex
X-PUBLISHED-TTL:PT1H
BEGIN:VTIMEZONE
TZID:Europe/Paris
BEGIN:DAYLIGHT
TZOFFSETFROM:+0100
TZOFFSETTO:+0200
TZNAME:CEST
DTSTART:20250330T010000
END:DAYLIGHT
BEGIN:STANDARD
TZOFFSETFROM:+0200
TZOFFSETTO:+0100
TZNAME:CET
DTSTART:20251026T010000
END:STANDARD
BEGIN:DAYLIGHT
TZOFFSETFROM:+0100
TZOFFSETTO:+0200
TZNAME:CEST
DTSTART:20260329T010000
END:DAYLIGHT
BEGIN:STANDARD
TZOFFSETFROM:+0200
TZOFFSETTO:+0100
TZNAME:CET
DTSTART:20261025T010000
END:STANDARD
BEGIN:DAYLIGHT
TZOFFSETFROM:+0100
TZOFFSETTO:+0200
TZNAME:CEST
DTSTART:20270328T010000
END:DAYLIGHT
BEGIN:STANDARD
TZOFFSETFROM:+0200
TZOFFSETTO:+0100
TZNAME:CET
DTSTART:20271031T010000
END:STANDARD
END:VTIMEZONE
BEGIN:VEVENT
DTSTART;TZID=Europe/Paris:20260401T200000
DTEND;TZID=Europe/Paris:20260401T213000
DTSTAMP:20260422T224727
CREATED:20251201T131712Z
LAST-MODIFIED:20260313T073214Z
UID:18915-1775073600-1775079000@www.la-ferte-bernard.fr
SUMMARY:Ironie de l'histoire
DESCRIPTION:Réda Seddiki s’impose dans nos profonds intérieurs et nous grave de son empreinte. Tantôt enjoué\, tantôt bouleversé\, tantôt attendri\, parfois révolté… Mais toujours amusé. Le pire n’existe pas puisqu’il faut en rire ! \nLoin des manichéismes et des blagues attendues\, ce spectacle emmène vers des terres insoupçonnées. Les idées toutes faites restent à la porte\, c’est ensuite que l’aventure commence. \n\nDurée : 1 h 15\nBilletterie en cliquant ici\n\n© Simon Krawies
URL:https://www.la-ferte-bernard.fr/event/ironie-de-lhistoire/
LOCATION:Centre culturel Athéna\, Avenue du Général de Gaulle\, La Ferté-Bernard\, 72400
CATEGORIES:Saison culturelle
ATTACH;FMTTYPE=image/jpeg:https://www.la-ferte-bernard.fr/wp-content/uploads/2025/08/Ironie-de-lhistoire-credits-Simon-Krawies.jpg
END:VEVENT
END:VCALENDAR