BEGIN:VCALENDAR
VERSION:2.0
PRODID:-//La Ferté Bernard - ECPv6.15.17.1//NONSGML v1.0//EN
CALSCALE:GREGORIAN
METHOD:PUBLISH
X-ORIGINAL-URL:https://www.la-ferte-bernard.fr
X-WR-CALDESC:Évènements pour La Ferté Bernard
REFRESH-INTERVAL;VALUE=DURATION:PT1H
X-Robots-Tag:noindex
X-PUBLISHED-TTL:PT1H
BEGIN:VTIMEZONE
TZID:Europe/Paris
BEGIN:DAYLIGHT
TZOFFSETFROM:+0100
TZOFFSETTO:+0200
TZNAME:CEST
DTSTART:20250330T010000
END:DAYLIGHT
BEGIN:STANDARD
TZOFFSETFROM:+0200
TZOFFSETTO:+0100
TZNAME:CET
DTSTART:20251026T010000
END:STANDARD
BEGIN:DAYLIGHT
TZOFFSETFROM:+0100
TZOFFSETTO:+0200
TZNAME:CEST
DTSTART:20260329T010000
END:DAYLIGHT
BEGIN:STANDARD
TZOFFSETFROM:+0200
TZOFFSETTO:+0100
TZNAME:CET
DTSTART:20261025T010000
END:STANDARD
BEGIN:DAYLIGHT
TZOFFSETFROM:+0100
TZOFFSETTO:+0200
TZNAME:CEST
DTSTART:20270328T010000
END:DAYLIGHT
BEGIN:STANDARD
TZOFFSETFROM:+0200
TZOFFSETTO:+0100
TZNAME:CET
DTSTART:20271031T010000
END:STANDARD
END:VTIMEZONE
BEGIN:VEVENT
DTSTART;TZID=Europe/Paris:20260523T200000
DTEND;TZID=Europe/Paris:20260523T220000
DTSTAMP:20260422T201520
CREATED:20260408T074654Z
LAST-MODIFIED:20260408T074948Z
UID:20924-1779566400-1779573600@www.la-ferte-bernard.fr
SUMMARY:Concert - La Famille
DESCRIPTION:Par les élèves des ensembles musicaux et les ateliers chants enfants & adolescents\nde l’Escal – Pôle de Pratiques Artistiques \nBilletterie à l’Escal à partir du 4 mai \nPlus d’informations en cliquant ici
URL:https://www.la-ferte-bernard.fr/event/concert-la-famille/
LOCATION:Centre culturel Athéna\, Avenue du Général de Gaulle\, La Ferté-Bernard\, 72400
CATEGORIES:Culture
ATTACH;FMTTYPE=image/jpeg:https://www.la-ferte-bernard.fr/wp-content/uploads/2026/04/Visuel-Concert-La-Famille-23-mai-scaled.jpg
END:VEVENT
BEGIN:VEVENT
DTSTART;TZID=Europe/Paris:20260529T080000
DTEND;TZID=Europe/Paris:20260531T170000
DTSTAMP:20260422T201520
CREATED:20260309T102237Z
LAST-MODIFIED:20260309T103007Z
UID:20372-1780041600-1780246800@www.la-ferte-bernard.fr
SUMMARY:Les Rendez-vous de Saint-Lyphard
DESCRIPTION:Programme à venir
URL:https://www.la-ferte-bernard.fr/event/les-rendez-vous-de-saint-lyphard/
LOCATION:Centre-ville\, Place Carnot\, La Ferté-Bernard\, 72400
CATEGORIES:Culture
END:VEVENT
BEGIN:VEVENT
DTSTART;TZID=Europe/Paris:20260529T160000
DTEND;TZID=Europe/Paris:20260529T180000
DTSTAMP:20260422T201520
CREATED:20260416T063042Z
LAST-MODIFIED:20260410T084905Z
UID:21006-1780070400-1780077600@www.la-ferte-bernard.fr
SUMMARY:#Login - Génération d'images avec l'IA
DESCRIPTION:Découvrir et expérimenter la génération d’images assistée par l’intelligence artificielle. \nÀ partir de 14 ans \nSur inscription auprès de la médiathèque-ludothèque Jean d’Ormesson\nGRATUIT \nEn partenariat avec Sarthe Lecture
URL:https://www.la-ferte-bernard.fr/event/login-generation-dimages-avec-lia/
LOCATION:Médiathèque Ludothèque Jean d’Ormesson\, 5 rue Alfred-Marchand\, La Ferté-Bernard\, 72400
CATEGORIES:Culture
ATTACH;FMTTYPE=image/png:https://www.la-ferte-bernard.fr/wp-content/uploads/2026/04/Visuel-Login-Generation-dimages-avec-lIA-scaled.png
END:VEVENT
BEGIN:VEVENT
DTSTART;TZID=Europe/Paris:20260530T103000
DTEND;TZID=Europe/Paris:20260530T113000
DTSTAMP:20260422T201520
CREATED:20260116T081433Z
LAST-MODIFIED:20260116T081433Z
UID:19589-1780137000-1780140600@www.la-ferte-bernard.fr
SUMMARY:La Ronde des histoires
DESCRIPTION:Lecture d’histoires et comptines pour les tout-petits (0 à 3 ans). \nGratuit
URL:https://www.la-ferte-bernard.fr/event/la-ronde-des-histoires-3/
LOCATION:Médiathèque Ludothèque Jean d’Ormesson\, 5 rue Alfred-Marchand\, La Ferté-Bernard\, 72400
ATTACH;FMTTYPE=image/png:https://www.la-ferte-bernard.fr/wp-content/uploads/2026/01/Visuel-La-Ronde-des-histoires-3.png
END:VEVENT
BEGIN:VEVENT
DTSTART;TZID=Europe/Paris:20260606T090000
DTEND;TZID=Europe/Paris:20260606T120000
DTSTAMP:20260422T201520
CREATED:20260115T130844Z
LAST-MODIFIED:20260212T081007Z
UID:19578-1780736400-1780747200@www.la-ferte-bernard.fr
SUMMARY:Découverte des insectes
DESCRIPTION:Découverte des insectes dans leur milieu de vie.\nAnimation de la SEPENES \nRenseignements et réservations\n02 43 93 87 87\nsepenesbis@orange.fr \nPlus d’informations\nen cliquant ici
URL:https://www.la-ferte-bernard.fr/event/decouverte-des-insectes/
LOCATION:Espace Naturel Sensible des Ajeux\, Les Ajeux\, La Ferté-Bernard\, 72400\, France
ATTACH;FMTTYPE=image/jpeg:https://www.la-ferte-bernard.fr/wp-content/uploads/2026/01/Insectes-SEPENES.jpg
END:VEVENT
BEGIN:VEVENT
DTSTART;TZID=Europe/Paris:20260613T103000
DTEND;TZID=Europe/Paris:20260613T120000
DTSTAMP:20260422T201520
CREATED:20251201T132219Z
LAST-MODIFIED:20251201T140228Z
UID:18919-1781346600-1781352000@www.la-ferte-bernard.fr
SUMMARY:Club de lecture "Les petites madeleines" - juin
DESCRIPTION:Pour partager un moment convivial en échangeant sur les découvertes ou coups de cœur littéraires\, cinématographiques ou musicaux. \n\nOuvert à tous sans inscription\nGratuit
URL:https://www.la-ferte-bernard.fr/event/club-de-lecture-les-petites-madeleines-juin/
LOCATION:Médiathèque Ludothèque Jean d’Ormesson\, 5 rue Alfred-Marchand\, La Ferté-Bernard\, 72400
CATEGORIES:Culture
ATTACH;FMTTYPE=image/png:https://www.la-ferte-bernard.fr/wp-content/uploads/2025/09/Visuel-sans-fond-blanc.png
END:VEVENT
BEGIN:VEVENT
DTSTART;TZID=Europe/Paris:20260620T103000
DTEND;TZID=Europe/Paris:20260620T120000
DTSTAMP:20260422T201520
CREATED:20260216T074827Z
LAST-MODIFIED:20260216T074827Z
UID:20040-1781951400-1781956800@www.la-ferte-bernard.fr
SUMMARY:La Ronde des histoires
DESCRIPTION:Lecture d’histoires avec de la musique pour les tout-petits (0 à 3 ans). \nGratuit
URL:https://www.la-ferte-bernard.fr/event/la-ronde-des-histoires-4/
LOCATION:Médiathèque Ludothèque Jean d’Ormesson\, 5 rue Alfred-Marchand\, La Ferté-Bernard\, 72400
ATTACH;FMTTYPE=image/png:https://www.la-ferte-bernard.fr/wp-content/uploads/2025/11/Visuel-la-ronde-des-histoires.png
END:VEVENT
BEGIN:VEVENT
DTSTART;TZID=Europe/Paris:20260621T180000
DTEND;TZID=Europe/Paris:20260621T230000
DTSTAMP:20260422T201520
CREATED:20260309T102446Z
LAST-MODIFIED:20260309T102829Z
UID:20374-1782064800-1782082800@www.la-ferte-bernard.fr
SUMMARY:Fête de la musique
DESCRIPTION:Programme à venir
URL:https://www.la-ferte-bernard.fr/event/fete-de-la-musique/
LOCATION:Centre-ville\, Place Carnot\, La Ferté-Bernard\, 72400
END:VEVENT
BEGIN:VEVENT
DTSTART;TZID=Europe/Paris:20260623T150000
DTEND;TZID=Europe/Paris:20260623T190000
DTSTAMP:20260422T201520
CREATED:20260414T085116Z
LAST-MODIFIED:20260414T085116Z
UID:21113-1782226800-1782241200@www.la-ferte-bernard.fr
SUMMARY:Don du sang
DESCRIPTION:Prise de rendez-vous en ligne\nen cliquant ici
URL:https://www.la-ferte-bernard.fr/event/don-du-sang-12/
LOCATION:Halles Denis Béalet\, Place de la Lice\, La Ferté-Bernard\, 72400\, France
CATEGORIES:Associations
ATTACH;FMTTYPE=image/jpeg:https://www.la-ferte-bernard.fr/wp-content/uploads/2025/12/EFS_RENTREE_CARRE_SANG.jpg
END:VEVENT
BEGIN:VEVENT
DTSTART;TZID=Europe/Paris:20260627T100000
DTEND;TZID=Europe/Paris:20260628T170000
DTSTAMP:20260422T201520
CREATED:20251201T132341Z
LAST-MODIFIED:20251201T140055Z
UID:18921-1782554400-1782666000@www.la-ferte-bernard.fr
SUMMARY:Temps Fort Danse et Musique
DESCRIPTION:La Ferté-Bernard accueille la 11ème édition du Temps Fort Danse & Musique Amateur Départemental.  \nPrès de 250 amateurs ados\, adultes valides ou en situation de handicap\, de Sarthe et d’ailleurs\, présentent des formes chorégraphiques dans différents sites de la ville qui se dévoilent au public lors d’un « parcours guidé » imaginé par la chorégraphe Florence Loison. \nDepuis 2012\, cet événement unique met à l’honneur le temps d’un week-end les pratiques danse amateur de création et accueille également des formes avec des musiciens. Cette mission départementale portée par la compagnie Zutano BaZar permet de valoriser toutes les esthétiques chorégraphiques\, les enseignants de la danse\, danseurs\, danseuses et chorégraphes engagés dans la création amateur. \nC’est aussi un moment d’échange\, de partage et\, pour les pratiquants amateurs\, l’occasion de se rassembler et de pratiquer ensemble ! \n\nGratuit\nTout public
URL:https://www.la-ferte-bernard.fr/event/temps-fort-danse-et-musique/
LOCATION:Centre-ville\, Place Carnot\, La Ferté-Bernard\, 72400
CATEGORIES:Evenement
ATTACH;FMTTYPE=image/jpeg:https://www.la-ferte-bernard.fr/wp-content/uploads/2025/08/TEmps-forts-danse-et-musique-PAULINE-YVARD_YANNMARIE-1.jpg
END:VEVENT
BEGIN:VEVENT
DTSTART;TZID=Europe/Paris:20260702T170000
DTEND;TZID=Europe/Paris:20260702T210000
DTSTAMP:20260422T201520
CREATED:20260309T103327Z
LAST-MODIFIED:20260309T103416Z
UID:20382-1783011600-1783026000@www.la-ferte-bernard.fr
SUMMARY:Jeudis de l'été
DESCRIPTION:Programme à venir
URL:https://www.la-ferte-bernard.fr/event/jeudis-de-lete/
CATEGORIES:Animation
END:VEVENT
BEGIN:VEVENT
DTSTART;TZID=Europe/Paris:20260709T200000
DTEND;TZID=Europe/Paris:20260709T220000
DTSTAMP:20260422T201520
CREATED:20260309T103833Z
LAST-MODIFIED:20260309T104246Z
UID:20395-1783627200-1783634400@www.la-ferte-bernard.fr
SUMMARY:Jeudis de l'été
DESCRIPTION:Programme à venir
URL:https://www.la-ferte-bernard.fr/event/jeudis-de-lete-7/
LOCATION:Pelouse du Centre culturel Athéna
CATEGORIES:Animation
END:VEVENT
BEGIN:VEVENT
DTSTART;TZID=Europe/Paris:20260716T200000
DTEND;TZID=Europe/Paris:20260716T220000
DTSTAMP:20260422T201520
CREATED:20260309T103606Z
LAST-MODIFIED:20260309T103606Z
UID:20387-1784232000-1784239200@www.la-ferte-bernard.fr
SUMMARY:Jeudis de l'été
DESCRIPTION:Programme à venir
URL:https://www.la-ferte-bernard.fr/event/jeudis-de-lete-3/
LOCATION:Pelouse du Centre culturel Athéna
CATEGORIES:Animation
END:VEVENT
BEGIN:VEVENT
DTSTART;TZID=Europe/Paris:20260720T150000
DTEND;TZID=Europe/Paris:20260720T190000
DTSTAMP:20260422T201520
CREATED:20260414T063048Z
LAST-MODIFIED:20260414T084727Z
UID:19176-1784559600-1784574000@www.la-ferte-bernard.fr
SUMMARY:Don du sang
DESCRIPTION:Prise de rendez-vous en ligne en cliquant ici
URL:https://www.la-ferte-bernard.fr/event/don-du-sang-7/
LOCATION:Centre culturel Athéna\, Avenue du Général de Gaulle\, La Ferté-Bernard\, 72400
CATEGORIES:Associations
ATTACH;FMTTYPE=image/jpeg:https://www.la-ferte-bernard.fr/wp-content/uploads/2025/12/EFS_RENTREE_CARRE_SANG.jpg
END:VEVENT
BEGIN:VEVENT
DTSTART;TZID=Europe/Paris:20260723T200000
DTEND;TZID=Europe/Paris:20260723T220000
DTSTAMP:20260422T201520
CREATED:20260309T103638Z
LAST-MODIFIED:20260309T104027Z
UID:20389-1784836800-1784844000@www.la-ferte-bernard.fr
SUMMARY:Jeudis de l'été
DESCRIPTION:Programme à venir
URL:https://www.la-ferte-bernard.fr/event/jeudis-de-lete-4/
LOCATION:Pelouse du Centre culturel Athéna
CATEGORIES:Animation
END:VEVENT
BEGIN:VEVENT
DTSTART;TZID=Europe/Paris:20260730T200000
DTEND;TZID=Europe/Paris:20260730T220000
DTSTAMP:20260422T201520
CREATED:20260309T103711Z
LAST-MODIFIED:20260309T104114Z
UID:20391-1785441600-1785448800@www.la-ferte-bernard.fr
SUMMARY:Jeudis de l'été
DESCRIPTION:Programme à venir
URL:https://www.la-ferte-bernard.fr/event/jeudis-de-lete-5/
LOCATION:Pelouse du Centre culturel Athéna
CATEGORIES:Animation
END:VEVENT
BEGIN:VEVENT
DTSTART;TZID=Europe/Paris:20260806T200000
DTEND;TZID=Europe/Paris:20260806T220000
DTSTAMP:20260422T201520
CREATED:20260309T103518Z
LAST-MODIFIED:20260309T104449Z
UID:20384-1786046400-1786053600@www.la-ferte-bernard.fr
SUMMARY:Jeudis de l'été
DESCRIPTION:Programme à venir
URL:https://www.la-ferte-bernard.fr/event/jeudis-de-lete-2/
LOCATION:Pelouse du Centre culturel Athéna
CATEGORIES:Animation
END:VEVENT
BEGIN:VEVENT
DTSTART;TZID=Europe/Paris:20260813T200000
DTEND;TZID=Europe/Paris:20260813T220000
DTSTAMP:20260422T201520
CREATED:20260309T104614Z
LAST-MODIFIED:20260309T104614Z
UID:20398-1786651200-1786658400@www.la-ferte-bernard.fr
SUMMARY:Jeudis de l'été
DESCRIPTION:Programme à venir
URL:https://www.la-ferte-bernard.fr/event/jeudis-de-lete-6/
LOCATION:Pelouse du Centre culturel Athéna
CATEGORIES:Animation
END:VEVENT
BEGIN:VEVENT
DTSTART;TZID=Europe/Paris:20260820T200000
DTEND;TZID=Europe/Paris:20260820T220000
DTSTAMP:20260422T201520
CREATED:20260309T104723Z
LAST-MODIFIED:20260309T104723Z
UID:20400-1787256000-1787263200@www.la-ferte-bernard.fr
SUMMARY:Jeudis de l'été
DESCRIPTION:Programme à venir
URL:https://www.la-ferte-bernard.fr/event/jeudis-de-lete-8/
LOCATION:Pelouse du Centre culturel Athéna
CATEGORIES:Animation
END:VEVENT
BEGIN:VEVENT
DTSTART;TZID=Europe/Paris:20260822T203000
DTEND;TZID=Europe/Paris:20260822T233000
DTSTAMP:20260422T201520
CREATED:20260115T125646Z
LAST-MODIFIED:20260212T080757Z
UID:19568-1787430600-1787441400@www.la-ferte-bernard.fr
SUMMARY:Papillons de nuit
DESCRIPTION:Découvrir la grande diversité des papillons de nuit grâce à un piège lumineux.\nLeurs coloris et différences de taille seront sûrement surprenants. \nPratique : Prévoir une tenue chaude \nRenseignements et réservations\nMFR (Maison Familiale Rurale) : 02 43 93 60 89\nOffice de Tourisme : 02 43 71 21 21 \nPlus d’informations\nen cliquant ici
URL:https://www.la-ferte-bernard.fr/event/papillons-de-nuit/
LOCATION:Espace Naturel Sensible des Ajeux\, Les Ajeux\, La Ferté-Bernard\, 72400\, France
ATTACH;FMTTYPE=image/jpeg:https://www.la-ferte-bernard.fr/wp-content/uploads/2026/01/Papillons-de-nuit-scaled.jpg
END:VEVENT
BEGIN:VEVENT
DTSTART;TZID=Europe/Paris:20260824T090000
DTEND;TZID=Europe/Paris:20260824T130000
DTSTAMP:20260422T201520
CREATED:20260414T085251Z
LAST-MODIFIED:20260414T085251Z
UID:21115-1787562000-1787576400@www.la-ferte-bernard.fr
SUMMARY:Don du sang
DESCRIPTION:Prise de rendez-vous en ligne\nen cliquant ici
URL:https://www.la-ferte-bernard.fr/event/don-du-sang-13/
LOCATION:Gymnase Gérard Dutertre\, 14 Avenue du Général de Gaulle\, La Ferté-Bernard\, 72400\, France
CATEGORIES:Associations
ATTACH;FMTTYPE=image/jpeg:https://www.la-ferte-bernard.fr/wp-content/uploads/2025/12/EFS_RENTREE_CARRE_SANG.jpg
END:VEVENT
BEGIN:VEVENT
DTSTART;TZID=Europe/Paris:20260827T080000
DTEND;TZID=Europe/Paris:20260827T170000
DTSTAMP:20260422T201520
CREATED:20260309T104758Z
LAST-MODIFIED:20260309T104758Z
UID:20403-1787817600-1787850000@www.la-ferte-bernard.fr
SUMMARY:Jeudis de l'été
DESCRIPTION:Programme à venir
URL:https://www.la-ferte-bernard.fr/event/jeudis-de-lete-9/
LOCATION:Pelouse du Centre culturel Athéna
CATEGORIES:Animation
END:VEVENT
BEGIN:VEVENT
DTSTART;TZID=Europe/Paris:20260904T080000
DTEND;TZID=Europe/Paris:20260906T170000
DTSTAMP:20260422T201520
CREATED:20260309T103201Z
LAST-MODIFIED:20260309T103201Z
UID:20380-1788508800-1788714000@www.la-ferte-bernard.fr
SUMMARY:Les 3 Jours
DESCRIPTION:Programme à venir
URL:https://www.la-ferte-bernard.fr/event/les-3-jours/
LOCATION:Place du Général de Gaulle\, Place du Général de Gaulle\, La Ferté-Bernard\, 72400\, France
CATEGORIES:Evenement
END:VEVENT
BEGIN:VEVENT
DTSTART;TZID=Europe/Paris:20260924T150000
DTEND;TZID=Europe/Paris:20260924T190000
DTSTAMP:20260422T201520
CREATED:20260414T063001Z
LAST-MODIFIED:20260414T084801Z
UID:19178-1790262000-1790276400@www.la-ferte-bernard.fr
SUMMARY:Don du sang
DESCRIPTION:Prise de rendez-vous en ligne en cliquant ici
URL:https://www.la-ferte-bernard.fr/event/don-du-sang-8/
LOCATION:Halles Denis Béalet\, Place de la Lice\, La Ferté-Bernard\, 72400\, France
CATEGORIES:Associations
ATTACH;FMTTYPE=image/jpeg:https://www.la-ferte-bernard.fr/wp-content/uploads/2025/12/EFS_RENTREE_CARRE_SANG.jpg
END:VEVENT
BEGIN:VEVENT
DTSTART;TZID=Europe/Paris:20261003T140000
DTEND;TZID=Europe/Paris:20261003T180000
DTSTAMP:20260422T201520
CREATED:20260115T131131Z
LAST-MODIFIED:20260212T081035Z
UID:19581-1791036000-1791050400@www.la-ferte-bernard.fr
SUMMARY:Observation des oiseaux
DESCRIPTION:Observation des oiseaux\nAnimation de la SEPENES \nRenseignements et réservations\n02 43 93 87 87\nsepenesbis@orange.fr \nPlus d’informations\nen cliquant ici
URL:https://www.la-ferte-bernard.fr/event/observation-des-oiseaux/
LOCATION:Espace Naturel Sensible des Ajeux\, Les Ajeux\, La Ferté-Bernard\, 72400\, France
ATTACH;FMTTYPE=image/jpeg:https://www.la-ferte-bernard.fr/wp-content/uploads/2026/01/Oiseaux-SEPENES-scaled.jpg
END:VEVENT
BEGIN:VEVENT
DTSTART;TZID=Europe/Paris:20261026T150000
DTEND;TZID=Europe/Paris:20261026T190000
DTSTAMP:20260422T201520
CREATED:20260414T063044Z
LAST-MODIFIED:20260414T084835Z
UID:19180-1793026800-1793041200@www.la-ferte-bernard.fr
SUMMARY:Don du sang
DESCRIPTION:Prise de rendez-vous en ligne en cliquant ici
URL:https://www.la-ferte-bernard.fr/event/don-du-sang-9/
LOCATION:Halles Denis Béalet\, Place de la Lice\, La Ferté-Bernard\, 72400\, France
CATEGORIES:Associations
ATTACH;FMTTYPE=image/jpeg:https://www.la-ferte-bernard.fr/wp-content/uploads/2025/12/EFS_RENTREE_CARRE_SANG.jpg
END:VEVENT
BEGIN:VEVENT
DTSTART;TZID=Europe/Paris:20261123T150000
DTEND;TZID=Europe/Paris:20261123T190000
DTSTAMP:20260422T201520
CREATED:20260414T063040Z
LAST-MODIFIED:20260414T084901Z
UID:19182-1795446000-1795460400@www.la-ferte-bernard.fr
SUMMARY:Don du sang
DESCRIPTION:Prise de rendez-vous en ligne en cliquant ici
URL:https://www.la-ferte-bernard.fr/event/don-du-sang-10/
LOCATION:Centre culturel Athéna\, Avenue du Général de Gaulle\, La Ferté-Bernard\, 72400
CATEGORIES:Associations
ATTACH;FMTTYPE=image/jpeg:https://www.la-ferte-bernard.fr/wp-content/uploads/2025/12/EFS_RENTREE_CARRE_SANG.jpg
END:VEVENT
BEGIN:VEVENT
DTSTART;TZID=Europe/Paris:20261205T180000
DTEND;TZID=Europe/Paris:20261205T200000
DTSTAMP:20260422T201520
CREATED:20260309T102748Z
LAST-MODIFIED:20260309T102748Z
UID:20378-1796493600-1796500800@www.la-ferte-bernard.fr
SUMMARY:Nuit des couleurs
DESCRIPTION:Programme à venir
URL:https://www.la-ferte-bernard.fr/event/nuit-des-couleurs-2/
LOCATION:Centre-ville\, Place Carnot\, La Ferté-Bernard\, 72400
CATEGORIES:Culture
END:VEVENT
BEGIN:VEVENT
DTSTART;TZID=Europe/Paris:20261218T170000
DTEND;TZID=Europe/Paris:20261219T170000
DTSTAMP:20260422T201520
CREATED:20260309T104913Z
LAST-MODIFIED:20260309T104913Z
UID:20405-1797613200-1797699600@www.la-ferte-bernard.fr
SUMMARY:Noël magique
DESCRIPTION:Programme à venir
URL:https://www.la-ferte-bernard.fr/event/noel-magique-2/
CATEGORIES:Animation
END:VEVENT
BEGIN:VEVENT
DTSTART;TZID=Europe/Paris:20261223T150000
DTEND;TZID=Europe/Paris:20261223T190000
DTSTAMP:20260422T201520
CREATED:20260414T063011Z
LAST-MODIFIED:20260414T084929Z
UID:19184-1798038000-1798052400@www.la-ferte-bernard.fr
SUMMARY:Don du sang
DESCRIPTION:Prise de rendez-vous en ligne en cliquant ici
URL:https://www.la-ferte-bernard.fr/event/don-du-sang-11/
LOCATION:Centre culturel Athéna\, Avenue du Général de Gaulle\, La Ferté-Bernard\, 72400
CATEGORIES:Associations
ATTACH;FMTTYPE=image/jpeg:https://www.la-ferte-bernard.fr/wp-content/uploads/2025/12/EFS_RENTREE_CARRE_SANG.jpg
END:VEVENT
END:VCALENDAR