BEGIN:VCALENDAR
VERSION:2.0
PRODID:-//La Ferté Bernard - ECPv6.15.17.1//NONSGML v1.0//EN
CALSCALE:GREGORIAN
METHOD:PUBLISH
X-WR-CALNAME:La Ferté Bernard
X-ORIGINAL-URL:https://www.la-ferte-bernard.fr
X-WR-CALDESC:Évènements pour La Ferté Bernard
REFRESH-INTERVAL;VALUE=DURATION:PT1H
X-Robots-Tag:noindex
X-PUBLISHED-TTL:PT1H
BEGIN:VTIMEZONE
TZID:Europe/Paris
BEGIN:DAYLIGHT
TZOFFSETFROM:+0100
TZOFFSETTO:+0200
TZNAME:CEST
DTSTART:20240331T010000
END:DAYLIGHT
BEGIN:STANDARD
TZOFFSETFROM:+0200
TZOFFSETTO:+0100
TZNAME:CET
DTSTART:20241027T010000
END:STANDARD
BEGIN:DAYLIGHT
TZOFFSETFROM:+0100
TZOFFSETTO:+0200
TZNAME:CEST
DTSTART:20250330T010000
END:DAYLIGHT
BEGIN:STANDARD
TZOFFSETFROM:+0200
TZOFFSETTO:+0100
TZNAME:CET
DTSTART:20251026T010000
END:STANDARD
BEGIN:DAYLIGHT
TZOFFSETFROM:+0100
TZOFFSETTO:+0200
TZNAME:CEST
DTSTART:20260329T010000
END:DAYLIGHT
BEGIN:STANDARD
TZOFFSETFROM:+0200
TZOFFSETTO:+0100
TZNAME:CET
DTSTART:20261025T010000
END:STANDARD
BEGIN:DAYLIGHT
TZOFFSETFROM:+0100
TZOFFSETTO:+0200
TZNAME:CEST
DTSTART:20270328T010000
END:DAYLIGHT
BEGIN:STANDARD
TZOFFSETFROM:+0200
TZOFFSETTO:+0100
TZNAME:CET
DTSTART:20271031T010000
END:STANDARD
END:VTIMEZONE
BEGIN:VEVENT
DTSTART;TZID=Europe/Paris:20251204T200000
DTEND;TZID=Europe/Paris:20251204T213000
DTSTAMP:20260422T223330
CREATED:20251201T115616Z
LAST-MODIFIED:20251201T142915Z
UID:18857-1764878400-1764883800@www.la-ferte-bernard.fr
SUMMARY:Inavouable
DESCRIPTION:Deux chanteurs qui\, dans l’intimité de leur loge\, discutent avant de monter sur scène.\nAvec une politesse exagérée\, ils se confient\, se taquinent\, divaguent\, déraisonnent et ils chantent bien sûr ! À la recherche de la rime parfaite\, du bon mot qui fait mouche\, Alexis HK et Benoît Dorémus naviguent entre poésie et indécence avec humour et autodérision. Le public est invité à un moment en coulisse en compagnie d’un duo qui exprime avec malice ce qu’on ne dit généralement jamais à haute voix. \n\nDurée : 1 h 15\nBilletterie en cliquant ici\n\n© Frank Loriou
URL:https://www.la-ferte-bernard.fr/event/inavouable/
LOCATION:Centre culturel Athéna\, Avenue du Général de Gaulle\, La Ferté-Bernard\, 72400
CATEGORIES:Saison culturelle
ATTACH;FMTTYPE=image/jpeg:https://www.la-ferte-bernard.fr/wp-content/uploads/2025/08/Inavouable_cFrank-Loriou_0-1.jpg
END:VEVENT
BEGIN:VEVENT
DTSTART;TZID=Europe/Paris:20251206T170000
DTEND;TZID=Europe/Paris:20251206T200000
DTSTAMP:20260422T223330
CREATED:20251201T133032Z
LAST-MODIFIED:20251201T143059Z
UID:18925-1765040400-1765051200@www.la-ferte-bernard.fr
SUMMARY:Nuit des Couleurs
DESCRIPTION:La Nuit des Couleurs se drapera d’orange\, une teinte éclatante synonyme de vitalité\, de chaleur et d’énergie.\nGratuit \nProgramme \n \n 
URL:https://www.la-ferte-bernard.fr/event/nuit-des-couleurs/
LOCATION:Centre-ville\, Place Carnot\, La Ferté-Bernard\, 72400
CATEGORIES:Evenement
ATTACH;FMTTYPE=image/jpeg:https://www.la-ferte-bernard.fr/wp-content/uploads/2025/11/Affiche-A3-Nuit-des-couleurs-2025-scaled.jpg
END:VEVENT
BEGIN:VEVENT
DTSTART;TZID=Europe/Paris:20251211T200000
DTEND;TZID=Europe/Paris:20251211T213000
DTSTAMP:20260422T223330
CREATED:20251201T120313Z
LAST-MODIFIED:20251202T085642Z
UID:18865-1765483200-1765488600@www.la-ferte-bernard.fr
SUMMARY:Ce qui nous noue
DESCRIPTION:Pourquoi vivre à deux ?\nUne question universelle que le Groupe Déjà explore avec humour\, décalage et sensibilité. Sur scène\, le couple se retrouve à nu\, disséqué\, ausculté… Du désir à la routine\, de la passion dévorante aux clichés amoureux\, les situations s’enchaînent comme un jeu de miroir joyeux et piquant. Théâtre du réel\, tour à tour idiot et sauvage\, tendre et caustique\, amer et poétique\, ce spectacle aussi libérateur que réjouissant met en relief la complexité des rapports amoureux. \n\nDurée : 1 h 20\nBilletterie en cliquant ici\n\n© Pascal Boudet
URL:https://www.la-ferte-bernard.fr/event/ce-qui-nous-noue/
LOCATION:Centre culturel Athéna\, Avenue du Général de Gaulle\, La Ferté-Bernard\, 72400
CATEGORIES:Saison culturelle
ATTACH;FMTTYPE=image/png:https://www.la-ferte-bernard.fr/wp-content/uploads/2025/08/Ce-qui-nous-nous-site.png
END:VEVENT
BEGIN:VEVENT
DTSTART;TZID=Europe/Paris:20251213T103000
DTEND;TZID=Europe/Paris:20251213T120000
DTSTAMP:20260422T223330
CREATED:20251201T120809Z
LAST-MODIFIED:20251201T142812Z
UID:18869-1765621800-1765627200@www.la-ferte-bernard.fr
SUMMARY:Club de lecture « Les petites madeleines »
DESCRIPTION:Pour partager un moment convivial en échangeant sur les découvertes ou coups de cœur littéraires\, cinématographiques ou musicaux. \n\nOuvert à tous sans inscription
URL:https://www.la-ferte-bernard.fr/event/club-de-lecture-les-petites-madeleines/
LOCATION:Médiathèque Ludothèque Jean d’Ormesson\, 5 rue Alfred-Marchand\, La Ferté-Bernard\, 72400
CATEGORIES:Culture
ATTACH;FMTTYPE=image/png:https://www.la-ferte-bernard.fr/wp-content/uploads/2025/09/Visuel-sans-fond-blanc.png
END:VEVENT
BEGIN:VEVENT
DTSTART;TZID=Europe/Paris:20251213T153000
DTEND;TZID=Europe/Paris:20251213T203000
DTSTAMP:20260422T223330
CREATED:20251201T121430Z
LAST-MODIFIED:20251201T142534Z
UID:18875-1765639800-1765657800@www.la-ferte-bernard.fr
SUMMARY:Gala VSF Gymnastique
DESCRIPTION:Le VSF GYMNASTIQUE donne rendez-vous pour deux représentations de son gala de fin d’année sur le thème de Disney. \n\nÀ 15 h 30 pour Mini Gym\, Baby Gym\, Écoles de la Gym et Multi Gym\nÀ 20 h 30 pour Loisirs\, Trampoline et Freestyle\, Gym Fun et Compétitifs\n\nBilletterie : \n\nEn ligne : demander le lien via l’adresse mail vsf.gymnastique@gmail.com\nPermanences à la salle Olympe : mercredi 3 décembre de 17 h à 18 h 30 et la samedi 6 décembre de 10 h à 11 h\n\n 
URL:https://www.la-ferte-bernard.fr/event/gala-vsf-gymnastique/
LOCATION:Salle Olympe\, Place du Général de Gaulle\, La Ferté-Bernard\, 72400\, France
CATEGORIES:Associations
ATTACH;FMTTYPE=image/png:https://www.la-ferte-bernard.fr/wp-content/uploads/2025/11/Visuel-gala-13-dec.png
END:VEVENT
BEGIN:VEVENT
DTSTART;TZID=Europe/Paris:20251213T200000
DTEND;TZID=Europe/Paris:20251213T220000
DTSTAMP:20260422T223330
CREATED:20251201T121058Z
LAST-MODIFIED:20251202T085559Z
UID:18871-1765656000-1765663200@www.la-ferte-bernard.fr
SUMMARY:Concert – La saison des orchestres
DESCRIPTION:Sous la direction de Mickaël Blot.\nEn première partie\, l’Orchestre d’Harmonie de La Ferté-Bernard.\nEn deuxième partie\, l’Orchestre Symphonique de la ville du Mans. \n\nTout public\nPlus de renseignements sur ohlfb.fr
URL:https://www.la-ferte-bernard.fr/event/concert-la-saison-des-orchestres/
LOCATION:Centre culturel Athéna\, Avenue du Général de Gaulle\, La Ferté-Bernard\, 72400
CATEGORIES:Culture
ATTACH;FMTTYPE=image/jpeg:https://www.la-ferte-bernard.fr/wp-content/uploads/2025/08/Ma-region-Virtuose-1-scaled.jpg
END:VEVENT
BEGIN:VEVENT
DTSTART;TZID=Europe/Paris:20251217T150000
DTEND;TZID=Europe/Paris:20251217T193000
DTSTAMP:20260422T223330
CREATED:20251201T121615Z
LAST-MODIFIED:20251201T142445Z
UID:18877-1765983600-1765999800@www.la-ferte-bernard.fr
SUMMARY:Don du sang
DESCRIPTION:Prise de rendez-vous sur le site en cliquant ici.
URL:https://www.la-ferte-bernard.fr/event/don-du-sang/
LOCATION:Centre culturel Athéna\, Avenue du Général de Gaulle\, La Ferté-Bernard\, 72400
CATEGORIES:Associations
ATTACH;FMTTYPE=image/png:https://www.la-ferte-bernard.fr/wp-content/uploads/2024/03/Don-du-sang-Visuel.png
END:VEVENT
BEGIN:VEVENT
DTSTART;TZID=Europe/Paris:20251219T170000
DTEND;TZID=Europe/Paris:20251220T180000
DTSTAMP:20260422T223330
CREATED:20251201T133223Z
LAST-MODIFIED:20251202T120835Z
UID:18928-1766163600-1766253600@www.la-ferte-bernard.fr
SUMMARY:Noël Magique
DESCRIPTION:Profitez de la magie de Noël. \nPhotos et chapeaux\nLe vendredi soir\, le Père Noël rencontrera les enfants et posera avec ceux qui le souhaitent pour la traditionnelle photo-souvenir. Les curieux pourront aussi découvrir La Malle aux chapeaux : deux surprenants modistes créent en un clin d’œil des couvre-chefs originaux avant de les déposer sur les têtes ! \nSpectacle et autres surprises \nLe samedi\, place au spectacle avec deux représentations de « Noël (en)chanté ». Habituellement source de mélodies\, la baguette magique de la fée Symphonie ne fonctionne plus. Elle part alors en quête de la magie perdue en traversant divers univers musicaux où elle rencontre d’étonnants personnages. Un spectacle interactif qui initie aux grands genres musicaux : rock\, classique\, jazz… \nÉgalement au programme : les couvre-chefs de la Malle aux chapeaux\, des tours en calèche avec le Père Noël\, des ateliers maquillage et des stands de gourmandises. \nVendredi de 17 h à 18 h 30 et samedi de 14 h 30 à 18 h – Place Carnot\nSpectacle 15 h et 17 h – Halles Denis Béalet\nGratuit
URL:https://www.la-ferte-bernard.fr/event/noel-magique/
LOCATION:Centre-ville\, Place Carnot\, La Ferté-Bernard\, 72400
CATEGORIES:Evenement
ATTACH;FMTTYPE=image/jpeg:https://www.la-ferte-bernard.fr/wp-content/uploads/2025/12/Noel-Magique-2025-site-agenda-scaled.jpg
END:VEVENT
BEGIN:VEVENT
DTSTART;TZID=Europe/Paris:20251220T103000
DTEND;TZID=Europe/Paris:20251220T120000
DTSTAMP:20260422T223330
CREATED:20251201T121747Z
LAST-MODIFIED:20251201T142334Z
UID:18879-1766226600-1766232000@www.la-ferte-bernard.fr
SUMMARY:La ronde des histoires
DESCRIPTION:Lecture d’histoires et comptines pour les tout-petits (0 à 3 ans). \n\nGratuit
URL:https://www.la-ferte-bernard.fr/event/la-ronde-des-histoires/
LOCATION:Médiathèque Ludothèque Jean d’Ormesson\, 5 rue Alfred-Marchand\, La Ferté-Bernard\, 72400
CATEGORIES:Culture
ATTACH;FMTTYPE=image/png:https://www.la-ferte-bernard.fr/wp-content/uploads/2025/11/Visuel-la-ronde-des-histoires.png
END:VEVENT
BEGIN:VEVENT
DTSTART;TZID=Europe/Paris:20251226T160000
DTEND;TZID=Europe/Paris:20251226T180000
DTSTAMP:20260422T223330
CREATED:20251201T122151Z
LAST-MODIFIED:20251218T122329Z
UID:18881-1766764800-1766772000@www.la-ferte-bernard.fr
SUMMARY:Ciné famille
DESCRIPTION:Projection d’un film à regarder en famille ! \n\nGratuit
URL:https://www.la-ferte-bernard.fr/event/cine-famille/
LOCATION:Médiathèque Ludothèque Jean d’Ormesson\, 5 rue Alfred-Marchand\, La Ferté-Bernard\, 72400
CATEGORIES:Culture
ATTACH;FMTTYPE=image/jpeg:https://www.la-ferte-bernard.fr/wp-content/uploads/2025/11/Visuel-cine-famille-RS-scaled.jpg
END:VEVENT
BEGIN:VEVENT
DTSTART;TZID=Europe/Paris:20251227T100000
DTEND;TZID=Europe/Paris:20260205T180000
DTSTAMP:20260422T223330
CREATED:20251201T122530Z
LAST-MODIFIED:20251215T075301Z
UID:18883-1766829600-1770314400@www.la-ferte-bernard.fr
SUMMARY:Exposition photos "Eurêka ! Des inventions au fil du temps..."
DESCRIPTION:Découvrir quelques inventions qui ont jalonné l’histoire humaine à travers l’œil des photographes de l’Huisne Photo Club. \nRencontre avec les photographes le samedi 10 janvier à 11 h \n\nEntrée libre
URL:https://www.la-ferte-bernard.fr/event/exposition-photos-eureka-des-inventions-au-fil-du-temps/
LOCATION:Médiathèque Ludothèque Jean d’Ormesson\, 5 rue Alfred-Marchand\, La Ferté-Bernard\, 72400
CATEGORIES:Culture
ATTACH;FMTTYPE=image/jpeg:https://www.la-ferte-bernard.fr/wp-content/uploads/2025/10/Gerard-Morel-_993_67_24-scaled.jpg
END:VEVENT
END:VCALENDAR