BEGIN:VCALENDAR
VERSION:2.0
PRODID:-//La Ferté Bernard - ECPv6.15.17.1//NONSGML v1.0//EN
CALSCALE:GREGORIAN
METHOD:PUBLISH
X-ORIGINAL-URL:https://www.la-ferte-bernard.fr
X-WR-CALDESC:Évènements pour La Ferté Bernard
REFRESH-INTERVAL;VALUE=DURATION:PT1H
X-Robots-Tag:noindex
X-PUBLISHED-TTL:PT1H
BEGIN:VTIMEZONE
TZID:Europe/Paris
BEGIN:DAYLIGHT
TZOFFSETFROM:+0100
TZOFFSETTO:+0200
TZNAME:CEST
DTSTART:20250330T010000
END:DAYLIGHT
BEGIN:STANDARD
TZOFFSETFROM:+0200
TZOFFSETTO:+0100
TZNAME:CET
DTSTART:20251026T010000
END:STANDARD
BEGIN:DAYLIGHT
TZOFFSETFROM:+0100
TZOFFSETTO:+0200
TZNAME:CEST
DTSTART:20260329T010000
END:DAYLIGHT
BEGIN:STANDARD
TZOFFSETFROM:+0200
TZOFFSETTO:+0100
TZNAME:CET
DTSTART:20261025T010000
END:STANDARD
BEGIN:DAYLIGHT
TZOFFSETFROM:+0100
TZOFFSETTO:+0200
TZNAME:CEST
DTSTART:20270328T010000
END:DAYLIGHT
BEGIN:STANDARD
TZOFFSETFROM:+0200
TZOFFSETTO:+0100
TZNAME:CET
DTSTART:20271031T010000
END:STANDARD
END:VTIMEZONE
BEGIN:VEVENT
DTSTART;TZID=Europe/Paris:20260205T100000
DTEND;TZID=Europe/Paris:20260327T170000
DTSTAMP:20260422T170850
CREATED:20260112T130749Z
LAST-MODIFIED:20260112T144108Z
UID:19447-1770285600-1774630800@www.la-ferte-bernard.fr
SUMMARY:Exposition - Carol Descordes
DESCRIPTION:Née dans une famille de galeristes\, Carol Descordes hérite très tôt de la culture et des codes de l’art classique. C’est au cœur de cet univers qu’elle développe un regard sensible\, nourri d’histoire de l’art et d’une exigence esthétique. \nInstallée dans les collines du Perche\, elle s’engage dans un travail photographique centré sur le paysage forestier qui l’entoure. Ces recherches\, à la fois sensibles et contemplatives\, donnent naissance à plusieurs ouvrages et expositions.\nSa rencontre avec l’antiquaire Sylvain Chériau marque un tournant. Elle puise dans sa double culture classique et visuelle pour entamer une série consacrée à la nature morte\, genre pictural qu’elle revisite avec finesse. Elle maîtrise l’éclairage et la mise en scène avec une précision rare\, recréant la lumière douce et les tons justes propres à la peinture ancienne. En tant qu’héritière du monde des antiquaires\, elle connaît les secrets de composition\, les matières\, les gestes et les objets. \n\nVernissage : Jeudi 5 février à 18 h 30\nVisites commentées : Samedis 14 février et 14 mars à partir de 11 h
URL:https://www.la-ferte-bernard.fr/event/exposition-carol-descordes/
LOCATION:Centre culturel de La Laverie\, 3 rue du Moulin à Tan\, La Ferté-Bernard\, 72400\, France
CATEGORIES:Culture
ATTACH;FMTTYPE=image/jpeg:https://www.la-ferte-bernard.fr/wp-content/uploads/2026/01/Exposition-La-Laverie-Carol-Descordes.jpg
END:VEVENT
BEGIN:VEVENT
DTSTART;TZID=Europe/Paris:20260305T200000
DTEND;TZID=Europe/Paris:20260305T213000
DTSTAMP:20260422T170850
CREATED:20251201T130513Z
LAST-MODIFIED:20260212T073813Z
UID:18903-1772740800-1772746200@www.la-ferte-bernard.fr
SUMMARY:Femme non rééducable
DESCRIPTION:Journaliste russe\, Anna Politkovskaïa a bravé la censure pour raconter la vérité sur la 2e guerre en Tchétchénie. \nSes articles\, courageux et dérangeants\, allaient à l’encontre de la propagande officielle. « Incorrigible » pour les autorités\, elle fut assassinée en 2006 à Moscou. Une ingénieuse scénographie et une écriture vibrante servent cette pièce de la Chouette Compagnie qui dresse le portrait d’une héroïne contemporaine. \nUn hommage à la liberté d’expression et à ceux qui la défendent. \n\nDurée : 1 h 15\nBilletterie en cliquant ici
URL:https://www.la-ferte-bernard.fr/event/femme-non-reeducable/
LOCATION:Centre culturel Athéna\, Avenue du Général de Gaulle\, La Ferté-Bernard\, 72400
CATEGORIES:Saison culturelle
ATTACH;FMTTYPE=image/jpeg:https://www.la-ferte-bernard.fr/wp-content/uploads/2025/08/Femme-non-reeducable-scaled.jpg
END:VEVENT
BEGIN:VEVENT
DTSTART;TZID=Europe/Paris:20260307T080000
DTEND;TZID=Europe/Paris:20260308T170000
DTSTAMP:20260422T170850
CREATED:20260202T084921Z
LAST-MODIFIED:20260202T084921Z
UID:19857-1772870400-1772989200@www.la-ferte-bernard.fr
SUMMARY:Tournoi national de Badminton
DESCRIPTION:
URL:https://www.la-ferte-bernard.fr/event/tournoi-national-de-badminton/
LOCATION:Salle Olympe\, Place du Général de Gaulle\, La Ferté-Bernard\, 72400\, France
CATEGORIES:Associations
ATTACH;FMTTYPE=image/jpeg:https://www.la-ferte-bernard.fr/wp-content/uploads/2026/02/logo.jpg
END:VEVENT
BEGIN:VEVENT
DTSTART;TZID=Europe/Paris:20260307T100000
DTEND;TZID=Europe/Paris:20260307T180000
DTSTAMP:20260422T170850
CREATED:20260212T103304Z
LAST-MODIFIED:20260212T103722Z
UID:19998-1772877600-1772906400@www.la-ferte-bernard.fr
SUMMARY:16e Festival du Livre Jeunesse
DESCRIPTION:Une cinquantaine d’auteurs ainsi que des animations attractives et ludiques autour du thème « La Folle histoire des inventions… de l’étincelle au pixel ! \nEntrée gratuite \nToutes les infos : ici 
URL:https://www.la-ferte-bernard.fr/event/16e-festival-du-livre-jeunesse/
LOCATION:Centre culturel Athéna\, Avenue du Général de Gaulle\, La Ferté-Bernard\, 72400
CATEGORIES:Culture
ATTACH;FMTTYPE=image/jpeg:https://www.la-ferte-bernard.fr/wp-content/uploads/2026/02/POST-INSTA-PORTRAIT.jpg
END:VEVENT
BEGIN:VEVENT
DTSTART;TZID=Europe/Paris:20260312T200000
DTEND;TZID=Europe/Paris:20260312T210000
DTSTAMP:20260422T170850
CREATED:20251201T130648Z
LAST-MODIFIED:20260220T075014Z
UID:18905-1773345600-1773349200@www.la-ferte-bernard.fr
SUMMARY:Je badine avec l'amour
DESCRIPTION:Avec comme point de départ le film Dirty Dancing\, romance culte des années 1980\, le chorégraphe Sylvain Riéjou revisite la figure du duo amoureux et déconstruit les stéréotypes de genre avec humour et autodérision. \nDans un vrai-faux spectacle en train de se faire\, tout en surprises et en décalages\, Sylvain Riéjou invite trois danseurs sur le plateau pour explorer différentes situations qui brisent les clichés de la danse. Avec légèreté\, il ausculte les relations humaines dans le couple comme dans le travail\, dans une adresse au public franche et décontractée. \nIl en ressort un récit chorégraphié réjouissant et hilarant ! \n\nDurée : 1 h 00\nBilletterie en cliquant ici\n\n© Vincent Curutchet
URL:https://www.la-ferte-bernard.fr/event/je-badine-avec-lamour/
LOCATION:Centre culturel Athéna\, Avenue du Général de Gaulle\, La Ferté-Bernard\, 72400
CATEGORIES:Saison culturelle
ATTACH;FMTTYPE=image/jpeg:https://www.la-ferte-bernard.fr/wp-content/uploads/2025/08/Je-badine-avec-lamour-c-Vincent-Curutchet-8-scaled.jpg
END:VEVENT
BEGIN:VEVENT
DTSTART;TZID=Europe/Paris:20260314T200000
DTEND;TZID=Europe/Paris:20260314T220000
DTSTAMP:20260422T170850
CREATED:20251201T130827Z
LAST-MODIFIED:20260223T141256Z
UID:18907-1773518400-1773525600@www.la-ferte-bernard.fr
SUMMARY:Soirée ciné-concert - Orchestre d'Harmonie de La Ferté-Bernard
DESCRIPTION:Le cinéma s’invite en musique lors d’une soirée ciné-concert dirigée par Mickaël Blot. \nGratuit\nTout public\nRéservation auprès de l’Office de tourisme \nPlus d’informations en cliquant ici
URL:https://www.la-ferte-bernard.fr/event/soiree-cine-concert-orchestre-dharmonie-de-la-ferte-bernard/
LOCATION:Centre culturel Athéna\, Avenue du Général de Gaulle\, La Ferté-Bernard\, 72400
CATEGORIES:Saison culturelle
ATTACH;FMTTYPE=image/jpeg:https://www.la-ferte-bernard.fr/wp-content/uploads/2025/08/saison-orchetsre.jpg
END:VEVENT
BEGIN:VEVENT
DTSTART;TZID=Europe/Paris:20260317T150000
DTEND;TZID=Europe/Paris:20260317T190000
DTSTAMP:20260422T170850
CREATED:20260130T073020Z
LAST-MODIFIED:20260130T132609Z
UID:19170-1773759600-1773774000@www.la-ferte-bernard.fr
SUMMARY:Don du sang
DESCRIPTION:Prise de rendez-vous en ligne en cliquant ici
URL:https://www.la-ferte-bernard.fr/event/don-du-sang-4/
LOCATION:Halles Denis Béalet\, Place de la Lice\, La Ferté-Bernard\, 72400\, France
CATEGORIES:Associations
ATTACH;FMTTYPE=image/jpeg:https://www.la-ferte-bernard.fr/wp-content/uploads/2025/12/EFS_RENTREE_CARRE_SANG.jpg
END:VEVENT
BEGIN:VEVENT
DTSTART;TZID=Europe/Paris:20260320T200000
DTEND;TZID=Europe/Paris:20260320T210000
DTSTAMP:20260422T170850
CREATED:20251201T131040Z
LAST-MODIFIED:20260227T082130Z
UID:18909-1774036800-1774040400@www.la-ferte-bernard.fr
SUMMARY:Hugh Coltman
DESCRIPTION:Bluesman anglais\, Hugh Coltman est de retour avec un nouvel album et une tournée plus intimes et personnels. \nAncien leader du groupe blues-rock The Hoax\, Hugh Coltman s’est illustré en explorant le répertoire de Nat King Cole et en célébrant Dr. John sur Night Trippin’ pour lesquels il remporte une Victoire du Jazz en 2017 et 2023. \nDans son sixième album « Good Grief » (août 2024)\, le crooner rock à l’accent so british ne triche pas. Dans l’esprit des folk-songs américaines des seventies\, parées de jazz\, de folk et de blues\, ses chansons poétiques en diable touchent en plein cœur. \nSon nouvel opus marque son retour à l’essentiel\, Hugh Coltman livre une œuvre de résilience\, d’une sincérité rare. \nDurée : 1 h 30 \nBilletterie en cliquant ici \n© Bonze
URL:https://www.la-ferte-bernard.fr/event/hugh-coltman/
LOCATION:Centre culturel Athéna\, Avenue du Général de Gaulle\, La Ferté-Bernard\, 72400
CATEGORIES:Saison culturelle
ATTACH;FMTTYPE=image/jpeg:https://www.la-ferte-bernard.fr/wp-content/uploads/2025/08/Hugh-Colman©Bonze_240112_74392_HD-scaled.jpg
END:VEVENT
BEGIN:VEVENT
DTSTART;TZID=Europe/Paris:20260321T103000
DTEND;TZID=Europe/Paris:20260321T120000
DTSTAMP:20260422T170850
CREATED:20251201T131203Z
LAST-MODIFIED:20260227T073916Z
UID:18911-1774089000-1774094400@www.la-ferte-bernard.fr
SUMMARY:La Ronde des histoires - mars
DESCRIPTION:Lecture d’histoires et comptines pour les tout-petits (0 à 3 ans). \nGratuit
URL:https://www.la-ferte-bernard.fr/event/la-ronde-des-histoires-mars/
LOCATION:Médiathèque Ludothèque Jean d’Ormesson\, 5 rue Alfred-Marchand\, La Ferté-Bernard\, 72400
CATEGORIES:Culture
ATTACH;FMTTYPE=image/png:https://www.la-ferte-bernard.fr/wp-content/uploads/2025/11/Visuel-la-ronde-des-histoires.png
END:VEVENT
BEGIN:VEVENT
DTSTART;TZID=Europe/Paris:20260321T103000
DTEND;TZID=Europe/Paris:20260321T130000
DTSTAMP:20260422T170850
CREATED:20260317T151450Z
LAST-MODIFIED:20260317T151541Z
UID:20607-1774089000-1774098000@www.la-ferte-bernard.fr
SUMMARY:Conseil d’Installation
DESCRIPTION:Ordre du jour \nHalles Denis Béalet
URL:https://www.la-ferte-bernard.fr/event/conseil-dinstallation/
LOCATION:Halles Denis Béalet\, Place de la Lice\, La Ferté-Bernard\, 72400\, France
CATEGORIES:vie municipale
ATTACH;FMTTYPE=image/jpeg:https://www.la-ferte-bernard.fr/wp-content/uploads/2026/03/Proclamation-resultats-scaled.jpg
END:VEVENT
BEGIN:VEVENT
DTSTART;TZID=Europe/Paris:20260325T200000
DTEND;TZID=Europe/Paris:20260325T220000
DTSTAMP:20260422T170850
CREATED:20251201T131359Z
LAST-MODIFIED:20260309T095948Z
UID:18913-1774468800-1774476000@www.la-ferte-bernard.fr
SUMMARY:Les Gros patinent bien
DESCRIPTION:Après « Bigre »\, Molière de la comédie en 2017\, Pierre Guillois et Olivier Martin-Salvan\, dans un feu d’artifice de bouts de carton\, invitent à un voyage imaginaire\, fusion des délires d’un cabaret de « cartoons » et d’une épopée shakespearienne. \nIl quitte les plaines du Grand Nord\, maudit par une sirène pêchée par accident. Il s’évade en patins\, à trottinette\, en avion cartonné. Il découvre l’Écosse\, repart vers le sud à dos de mulet\, assassine quelques cornemuseurs au passage\, cherche l’amour\, toujours. \nMais l’acteur en costume trois pièces reste assis\, c’est la folie du spectacle. Son acolyte en maillot de bain s’agite autour de lui avec des centaines de morceaux de carton où sont inscrits les noms des pays\, accessoires ou bestioles rencontrées. \nAventures rocambolesques déployées à force d’astuces et de gags\, c’est une explosion d’idées géniales et farfelues. \nDurée : 1 h 35 \nBilletterie en cliquant ici \n© Fabienne-Rappenneau
URL:https://www.la-ferte-bernard.fr/event/les-gros-patinent-bien/
LOCATION:Centre culturel Athéna\, Avenue du Général de Gaulle\, La Ferté-Bernard\, 72400
CATEGORIES:Saison culturelle
ATTACH;FMTTYPE=image/jpeg:https://www.la-ferte-bernard.fr/wp-content/uploads/2025/08/LES_GROS_PATINENT_BIEN_Fabienne-Rappenneau-01-2.jpg
END:VEVENT
BEGIN:VEVENT
DTSTART;TZID=Europe/Paris:20260327T200000
DTEND;TZID=Europe/Paris:20260327T220000
DTSTAMP:20260422T170850
CREATED:20260312T152339Z
LAST-MODIFIED:20260312T152529Z
UID:20494-1774641600-1774648800@www.la-ferte-bernard.fr
SUMMARY:Spectacle chanté « Bourvil Le Tendre »
DESCRIPTION:Ce spectacle est présenté par La Pulse à l’Oreille\, conçu\, mis en scène et en voix par Marie-Laure Thébault. \n« Chez Gégène » c’est le cœur de la place du village.\nUne terrasse de café paisible où les habitants se donnent rendez-vous quotidiennement.\nTémoin de tous les ragots\, de toutes les complicités\, cette place\, aux allures de guinguette\, respire la joie de vivre\, l’humour\, la tendresse à l’instar de Bourvil…Bourvil Le Tendre. \nRéservation conseillée\n06 04 40 73 54 \nPlus d’informations en cliquant ici
URL:https://www.la-ferte-bernard.fr/event/spectacle-chante-bourvil-le-tendre/
LOCATION:Halles Denis Béalet\, Place de la Lice\, La Ferté-Bernard\, 72400\, France
ATTACH;FMTTYPE=image/jpeg:https://www.la-ferte-bernard.fr/wp-content/uploads/2026/03/Visuel-Bourvil-Le-Tendre-27-mars.jpg
END:VEVENT
BEGIN:VEVENT
DTSTART;TZID=Europe/Paris:20260327T200000
DTEND;TZID=Europe/Paris:20260328T200000
DTSTAMP:20260422T170850
CREATED:20260226T094623Z
LAST-MODIFIED:20260226T094623Z
UID:20175-1774641600-1774728000@www.la-ferte-bernard.fr
SUMMARY:Concerts Instant Rock & Acoustique Moment
DESCRIPTION:Vendredi 27 & Samedi 28 mars\n20 h  \nPar les élèves de guitare et les ateliers de chant pop. \nBilletterie à l’Escal à partir du 9 mars\n1 rue Ledru Rollin\, 72400 La Ferté-Bernard
URL:https://www.la-ferte-bernard.fr/event/concerts-instant-rock-acoustique-moment/
LOCATION:Centre culturel Athéna\, Avenue du Général de Gaulle\, La Ferté-Bernard\, 72400
ATTACH;FMTTYPE=image/jpeg:https://www.la-ferte-bernard.fr/wp-content/uploads/2026/02/Visuel-Concerts-scaled.jpg
END:VEVENT
BEGIN:VEVENT
DTSTART;VALUE=DATE:20260328
DTEND;VALUE=DATE:20260329
DTSTAMP:20260422T170850
CREATED:20260311T135545Z
LAST-MODIFIED:20260312T083520Z
UID:20430-1774656000-1774742399@www.la-ferte-bernard.fr
SUMMARY:En route vers Ferté Fest
DESCRIPTION:Un avant-goût de Ferté Fest ! \nDe 10 h à 12 h 30 et de 14 h à 17 h\, petits et grands sont invités à profiter d’un programme ludique et créatif au cœur des rues commerçantes. \nAu programme : atelier de tatouages éphémères K-Pop Demon Hunters\, création d’une fresque sur vitrine dans la rue d’Huisne\, atelier de dessin kawaii\, défilé de mascottes\, atelier photo et plein d’autres animations à découvrir. \nOrganisé par Acheter Fertois \nProgramme et billetterie Ferté Fest 25 & 26 avril\nen scannant le QR Code ci-dessous ou en cliquant ici
URL:https://www.la-ferte-bernard.fr/event/animations-dans-votre-coeur-de-ville-en-route-vers-ferte-fest/
LOCATION:Centre-ville\, Place Carnot\, La Ferté-Bernard\, 72400
ATTACH;FMTTYPE=image/jpeg:https://www.la-ferte-bernard.fr/wp-content/uploads/2026/03/Visuel-Animations-coeur-de-ville-28-mars.jpg
END:VEVENT
BEGIN:VEVENT
DTSTART;TZID=Europe/Paris:20260328T090000
DTEND;TZID=Europe/Paris:20260328T120000
DTSTAMP:20260422T170850
CREATED:20260115T130343Z
LAST-MODIFIED:20260212T080937Z
UID:19573-1774688400-1774699200@www.la-ferte-bernard.fr
SUMMARY:Arbres et climat
DESCRIPTION:Les arbres révélateurs des changements climatiques.\nAnimation de la SEPENES \nRenseignements et réservations\n02 43 93 87 87\nsepenesbis@orange.fr \nPlus d’informations\nen cliquant ici
URL:https://www.la-ferte-bernard.fr/event/arbres-et-climat/
LOCATION:Espace Naturel Sensible des Ajeux\, Les Ajeux\, La Ferté-Bernard\, 72400\, France
ATTACH;FMTTYPE=image/jpeg:https://www.la-ferte-bernard.fr/wp-content/uploads/2026/01/Arbres-SEPENES-scaled.jpg
END:VEVENT
BEGIN:VEVENT
DTSTART;TZID=Europe/Paris:20260328T090000
DTEND;TZID=Europe/Paris:20260328T120000
DTSTAMP:20260422T170850
CREATED:20260310T120905Z
LAST-MODIFIED:20260310T120905Z
UID:20418-1774688400-1774699200@www.la-ferte-bernard.fr
SUMMARY:Équipe sarthoise MétisS
DESCRIPTION:L’équipe sarthoise MétisS engagée aux 24 H motos 2026 sera présente sur le marché de Saint-Antoine le samedi 28 mars de 9 h à 12 h. \n\nExposition de la moto\nRencontre avec l’équipe\nAnimations\nSéance de dédicaces\n\nOrganisé par le Département
URL:https://www.la-ferte-bernard.fr/event/equipe-sarthoise-metiss/
LOCATION:Place Victor Hugo\, Place Victor Hugo\, La Ferté-Bernard\, 72400\, France
CATEGORIES:Animation
ATTACH;FMTTYPE=image/jpeg:https://www.la-ferte-bernard.fr/wp-content/uploads/2026/03/photo-et-date-MetisS.jpg
END:VEVENT
BEGIN:VEVENT
DTSTART;TZID=Europe/Paris:20260328T140000
DTEND;TZID=Europe/Paris:20260328T180000
DTSTAMP:20260422T170850
CREATED:20260115T123910Z
LAST-MODIFIED:20260212T080633Z
UID:19553-1774706400-1774720800@www.la-ferte-bernard.fr
SUMMARY:Les Amphibiens
DESCRIPTION:Venir observer et identifier les différents amphibiens. \nPratique : Prévoir des bottes \nRenseignements et réservations\nMFR (Maison Familiale Rurale) : 02 43 93 60 89\nOffice de Tourisme : 02 43 71 21 21 \nPlus d’informations\nen cliquant ici
URL:https://www.la-ferte-bernard.fr/event/les-amphibiens/
LOCATION:Espace Naturel Sensible des Ajeux\, Les Ajeux\, La Ferté-Bernard\, 72400\, France
ATTACH;FMTTYPE=image/jpeg:https://www.la-ferte-bernard.fr/wp-content/uploads/2026/01/Amphibiens.jpg
END:VEVENT
BEGIN:VEVENT
DTSTART;TZID=Europe/Paris:20260328T150000
DTEND;TZID=Europe/Paris:20260329T170000
DTSTAMP:20260422T170850
CREATED:20260210T082203Z
LAST-MODIFIED:20260312T085349Z
UID:19914-1774710000-1774803600@www.la-ferte-bernard.fr
SUMMARY:26e édition du Slalom Automobile
DESCRIPTION:Organisé par l’ASA Maine Bretagne et l’Auto Moto Club Fertois\, le Slalom Automobile de La Ferté-Bernard compte pour la Coupe de France des Slaloms. \nPROGRAMME \nSamedi 28 mars\nDe 15 h à 18 h : Essais libres non chronométrés \nDimanche 29 mars\nDe 9 h à 10 h 15 : Essais libres non chronométrés\nDe 10 h 15 à 12 h : Essais chronométrés\n13 h 30 : 3 manches de course \nUne cinquantaine de pilotes est attendue. \nGratuit
URL:https://www.la-ferte-bernard.fr/event/26e-edition-du-slalom-automobile/
LOCATION:Place du Général de Gaulle\, Place du Général de Gaulle\, La Ferté-Bernard\, 72400\, France
ATTACH;FMTTYPE=image/jpeg:https://www.la-ferte-bernard.fr/wp-content/uploads/2026/02/Visuel-26e-Slalom-Automobile.jpg
END:VEVENT
BEGIN:VEVENT
DTSTART;TZID=Europe/Paris:20260330T140000
DTEND;TZID=Europe/Paris:20260330T190000
DTSTAMP:20260422T170850
CREATED:20260310T142109Z
LAST-MODIFIED:20260310T142109Z
UID:20422-1774879200-1774897200@www.la-ferte-bernard.fr
SUMMARY:Thé dansant
DESCRIPTION:Partager un moment de convivialité durant ce thé dansant\, animé par l’orchestre Royal Musette. \nEntrée : 10 €\nBuvette sur place\nViennoiserie offerte \nOrganisé par l’AVF (Accueil des Villes Françaises) de La Ferté-Bernard
URL:https://www.la-ferte-bernard.fr/event/the-dansant/
LOCATION:Centre culturel Athéna\, Avenue du Général de Gaulle\, La Ferté-Bernard\, 72400
ATTACH;FMTTYPE=image/jpeg:https://www.la-ferte-bernard.fr/wp-content/uploads/2026/03/Visuel-AM-dansant.jpg
END:VEVENT
END:VCALENDAR