BEGIN:VCALENDAR
VERSION:2.0
PRODID:-//La Ferté Bernard - ECPv6.15.17.1//NONSGML v1.0//EN
CALSCALE:GREGORIAN
METHOD:PUBLISH
X-ORIGINAL-URL:https://www.la-ferte-bernard.fr
X-WR-CALDESC:Évènements pour La Ferté Bernard
REFRESH-INTERVAL;VALUE=DURATION:PT1H
X-Robots-Tag:noindex
X-PUBLISHED-TTL:PT1H
BEGIN:VTIMEZONE
TZID:Europe/Paris
BEGIN:DAYLIGHT
TZOFFSETFROM:+0100
TZOFFSETTO:+0200
TZNAME:CEST
DTSTART:20250330T010000
END:DAYLIGHT
BEGIN:STANDARD
TZOFFSETFROM:+0200
TZOFFSETTO:+0100
TZNAME:CET
DTSTART:20251026T010000
END:STANDARD
BEGIN:DAYLIGHT
TZOFFSETFROM:+0100
TZOFFSETTO:+0200
TZNAME:CEST
DTSTART:20260329T010000
END:DAYLIGHT
BEGIN:STANDARD
TZOFFSETFROM:+0200
TZOFFSETTO:+0100
TZNAME:CET
DTSTART:20261025T010000
END:STANDARD
BEGIN:DAYLIGHT
TZOFFSETFROM:+0100
TZOFFSETTO:+0200
TZNAME:CEST
DTSTART:20270328T010000
END:DAYLIGHT
BEGIN:STANDARD
TZOFFSETFROM:+0200
TZOFFSETTO:+0100
TZNAME:CET
DTSTART:20271031T010000
END:STANDARD
END:VTIMEZONE
BEGIN:VEVENT
DTSTART;TZID=Europe/Paris:20260409T083000
DTEND;TZID=Europe/Paris:20260529T170000
DTSTAMP:20260422T165601
CREATED:20260112T073053Z
LAST-MODIFIED:20260112T131718Z
UID:19452-1775723400-1780074000@www.la-ferte-bernard.fr
SUMMARY:Exposition - Patricia Pérez
DESCRIPTION:La céramique est le moyen d’expression principal de Patricia Pérez\, elle nous décrit la triste réalité\, constatation d’une nature touchée par les déchets d’une société ultra-consommatrice. \nAu travers de cette exposition\, l’artiste attire notre attention sur ces objets que l’on ne voit plus\, que l’on ne considère plus\, mais qui\, pour la plupart\, nous survivront. Véritable visite archéologique dans le présent\, sublimée par le talent artistique de Patricia Pérez. \n\nVernissage : Jeudi 9 avril à 18 h 30\nVisite commentée : Samedi 25 avril à partir de 11 h
URL:https://www.la-ferte-bernard.fr/event/exposition-patricia-perez/
LOCATION:Centre culturel de La Laverie\, 3 rue du Moulin à Tan\, La Ferté-Bernard\, 72400\, France
CATEGORIES:Culture
ATTACH;FMTTYPE=image/jpeg:https://www.la-ferte-bernard.fr/wp-content/uploads/2026/01/Exposition-La-Laverie-Patricia-Perez.jpg
END:VEVENT
BEGIN:VEVENT
DTSTART;TZID=Europe/Paris:20260422T160000
DTEND;TZID=Europe/Paris:20260422T180000
DTSTAMP:20260422T165601
CREATED:20260116T094223Z
LAST-MODIFIED:20260116T094223Z
UID:19603-1776873600-1776880800@www.la-ferte-bernard.fr
SUMMARY:Ciné famille
DESCRIPTION:Projection d’un film à regarder en famille ! \nGratuit
URL:https://www.la-ferte-bernard.fr/event/cine-famille-5/
LOCATION:Médiathèque Ludothèque Jean d’Ormesson\, 5 rue Alfred-Marchand\, La Ferté-Bernard\, 72400
ATTACH;FMTTYPE=image/jpeg:https://www.la-ferte-bernard.fr/wp-content/uploads/2025/11/Visuel-cine-famille-RS-scaled.jpg
END:VEVENT
BEGIN:VEVENT
DTSTART;TZID=Europe/Paris:20260424T150000
DTEND;TZID=Europe/Paris:20260424T190000
DTSTAMP:20260422T165601
CREATED:20260130T073043Z
LAST-MODIFIED:20260130T132638Z
UID:19172-1777042800-1777057200@www.la-ferte-bernard.fr
SUMMARY:Don du sang
DESCRIPTION:Prise de rendez-vous en ligne en cliquant ici
URL:https://www.la-ferte-bernard.fr/event/don-du-sang-5/
LOCATION:Halles Denis Béalet\, Place de la Lice\, La Ferté-Bernard\, 72400\, France
CATEGORIES:Associations
ATTACH;FMTTYPE=image/jpeg:https://www.la-ferte-bernard.fr/wp-content/uploads/2025/12/EFS_RENTREE_CARRE_SANG.jpg
END:VEVENT
BEGIN:VEVENT
DTSTART;TZID=Europe/Paris:20260425T100000
DTEND;TZID=Europe/Paris:20260426T180000
DTSTAMP:20260422T165601
CREATED:20260414T064623Z
LAST-MODIFIED:20260414T064623Z
UID:21096-1777111200-1777226400@www.la-ferte-bernard.fr
SUMMARY:Ferté’Fest\, la pop culture à l’honneur
DESCRIPTION:Ferté’Fest\, porté par l’association Acheter Fertois\, plongera le public au cœur de la pop culture avec une exposition rétro années 80/90\, du cosplay\, des animations\, des artistes et des stands de passionnés. Le festival proposera aussi une expérience K-Pop ainsi qu’un concert années 80/90. \nProgramme\n    \nPratique \n\nFestival : samedi 25 et dimanche 26 avril de 10h à 18h. Gratuit pour les moins de 12 ans.\nExposition : jeudi 23 et vendredi 24 avril de 14h à 18h et lundi 27 avril de 9h à 12h et de 14h à 18h. Gratuit.\nConcert : samedi 25 avril à 18h.\n\nCentre culturel Athéna
URL:https://www.la-ferte-bernard.fr/event/fertefest-la-pop-culture-a-lhonneur/
LOCATION:Centre culturel Athéna\, Avenue du Général de Gaulle\, La Ferté-Bernard\, 72400
CATEGORIES:Animation
ATTACH;FMTTYPE=image/png:https://www.la-ferte-bernard.fr/wp-content/uploads/2026/04/Capture-decran-2026-04-14-084628.png
END:VEVENT
BEGIN:VEVENT
DTSTART;TZID=Europe/Paris:20260425T190000
DTEND;TZID=Europe/Paris:20260425T220000
DTSTAMP:20260422T165601
CREATED:20260325T073019Z
LAST-MODIFIED:20260312T134917Z
UID:20486-1777143600-1777154400@www.la-ferte-bernard.fr
SUMMARY:Concert reggae pop soul
DESCRIPTION:Découvrir Wagane\, chanteur et guitariste à la voix vibrante ! \nL’artiste mêle reggae\, pop et soul dans un concert intimiste et chaleureux.\nUne soirée placée sous le signe de la musique\, du partage et de l’ambiance festive\, à vivre entre amis ou en famille. \nOuverture des portes : 18 h\nConcert : 19 h \nRéservation des places\nen scannant le QR Code ci-dessous ou en cliquant ici \n1 boisson offerte\nRestauration sous forme de planches à partager
URL:https://www.la-ferte-bernard.fr/event/concert-reggae-pop-soul/
LOCATION:Salle Le Closeau\, 17 rue Hoche\, La Ferté-Bernard\, Sélectionner un État :\, 72400\, France
ATTACH;FMTTYPE=image/jpeg:https://www.la-ferte-bernard.fr/wp-content/uploads/2026/03/Visuel-Concert-reggae-pop-soul-25-avril.jpg
END:VEVENT
BEGIN:VEVENT
DTSTART;TZID=Europe/Paris:20260426T100000
DTEND;TZID=Europe/Paris:20260426T123000
DTSTAMP:20260422T165601
CREATED:20260115T124501Z
LAST-MODIFIED:20260212T080702Z
UID:19558-1777197600-1777206600@www.la-ferte-bernard.fr
SUMMARY:À la rencontre de la vie de l'étang
DESCRIPTION:Au cours de cette balade\, les multiples facettes de l’étang ainsi que de curieuses caractéristiques seront à découvrir. \nPratique : Bottes obligatoires \nRenseignements et réservations\nMFR (Maison Familiale Rurale) : 02 43 93 60 89\nOffice de Tourisme : 02 43 71 21 21 \nPlus d’informations\nen cliquant ici
URL:https://www.la-ferte-bernard.fr/event/a-la-rencontre-de-la-vie-de-letang/
LOCATION:Espace Naturel Sensible des Ajeux\, Les Ajeux\, La Ferté-Bernard\, 72400\, France
ATTACH;FMTTYPE=image/jpeg:https://www.la-ferte-bernard.fr/wp-content/uploads/2026/01/ENS.jpg
END:VEVENT
BEGIN:VEVENT
DTSTART;TZID=Europe/Paris:20260426T150000
DTEND;TZID=Europe/Paris:20260426T180000
DTSTAMP:20260422T165601
CREATED:20260413T091925Z
LAST-MODIFIED:20260413T100013Z
UID:21051-1777215600-1777226400@www.la-ferte-bernard.fr
SUMMARY:Match du Cœur - VSF Football
DESCRIPTION:La rencontre entre le VSF Football et NDC Angers Football mettra à l’honneur deux structures locales :\nl’EHPAD Paul Chapron et l’ESATCO Sarthe. \nÀ cette occasion\, 4 résidents de l’EHPAD et 3 résidents de l’ESAT seront présents et pleinement intégrés à l’événement. \nUn moment symbolique est prévu avant le coup d’envoi\, avec l’entrée des joueurs accompagnés des résidents des deux structures ainsi que des enfants du VSF Football\, afin de valoriser ce temps fort autour du partage et de la solidarité. \nDes animations seront proposées tout au long de l’après-midi et des fonds seront collectés au profit des deux établissements.
URL:https://www.la-ferte-bernard.fr/event/match-du-coeur-vsf-football/
LOCATION:Stade Pré du chateau\, Place du Général de Gaulle\, La Ferté-Bernard\, 72400\, France
CATEGORIES:Sport
ATTACH;FMTTYPE=image/png:https://www.la-ferte-bernard.fr/wp-content/uploads/2026/04/Visuel-Match-du-Coeur-26.04.png
END:VEVENT
END:VCALENDAR